BEGIN:VCALENDAR
VERSION:2.0
PRODID:-//CleanAIRE NC - ECPv6.15.20//NONSGML v1.0//EN
CALSCALE:GREGORIAN
METHOD:PUBLISH
X-ORIGINAL-URL:https://cleanairenc.org
X-WR-CALDESC:Events for CleanAIRE NC
REFRESH-INTERVAL;VALUE=DURATION:PT1H
X-Robots-Tag:noindex
X-PUBLISHED-TTL:PT1H
BEGIN:VTIMEZONE
TZID:America/New_York
BEGIN:DAYLIGHT
TZOFFSETFROM:-0500
TZOFFSETTO:-0400
TZNAME:EDT
DTSTART:20200308T070000
END:DAYLIGHT
BEGIN:STANDARD
TZOFFSETFROM:-0400
TZOFFSETTO:-0500
TZNAME:EST
DTSTART:20201101T060000
END:STANDARD
BEGIN:DAYLIGHT
TZOFFSETFROM:-0500
TZOFFSETTO:-0400
TZNAME:EDT
DTSTART:20210314T070000
END:DAYLIGHT
BEGIN:STANDARD
TZOFFSETFROM:-0400
TZOFFSETTO:-0500
TZNAME:EST
DTSTART:20211107T060000
END:STANDARD
BEGIN:DAYLIGHT
TZOFFSETFROM:-0500
TZOFFSETTO:-0400
TZNAME:EDT
DTSTART:20220313T070000
END:DAYLIGHT
BEGIN:STANDARD
TZOFFSETFROM:-0400
TZOFFSETTO:-0500
TZNAME:EST
DTSTART:20221106T060000
END:STANDARD
END:VTIMEZONE
BEGIN:VEVENT
DTSTART;TZID=America/New_York:20210807T120000
DTEND;TZID=America/New_York:20210807T170000
DTSTAMP:20260422T232145
CREATED:20210804T024948Z
LAST-MODIFIED:20210813T133301Z
UID:25073-1628337600-1628355600@cleanairenc.org
SUMMARY:RiverFest 2021
DESCRIPTION:RiverFest is a family-friendly festival held on the banks of the Catawba River in Belmont\, NC. The day will be action-packed with fun for the whole family! \nEvent Features:\n\nLive music by Dr. D and Joey Lavalle\nFood trucks\nLocal\, craft beer\nEducational activities for kids\nFree Kayaking (8 and up for single kayaks\, 4 & up to ride along in a tandem)\nKing/Queen of the Catawba Kayak Race\nLocal vendors\nArtisans\nRaffle with multiple prizes!
URL:https://cleanairenc.org/event/riverfest-2021/
LOCATION:Kevin Loftin Riverfront Park\, 1400 Catawba St\, Belmont\, NC\, 28012\, United States
CATEGORIES:Past
ATTACH;FMTTYPE=image/png:https://cleanairenc.org/wp-content/uploads/2021/08/RiverFest-2021-final.png
END:VEVENT
END:VCALENDAR