BEGIN:VCALENDAR
VERSION:2.0
PRODID:-//CleanAIRE NC - ECPv6.15.20//NONSGML v1.0//EN
CALSCALE:GREGORIAN
METHOD:PUBLISH
X-WR-CALNAME:CleanAIRE NC
X-ORIGINAL-URL:https://cleanairenc.org
X-WR-CALDESC:Events for CleanAIRE NC
REFRESH-INTERVAL;VALUE=DURATION:PT1H
X-Robots-Tag:noindex
X-PUBLISHED-TTL:PT1H
BEGIN:VTIMEZONE
TZID:America/New_York
BEGIN:DAYLIGHT
TZOFFSETFROM:-0500
TZOFFSETTO:-0400
TZNAME:EDT
DTSTART:20200308T070000
END:DAYLIGHT
BEGIN:STANDARD
TZOFFSETFROM:-0400
TZOFFSETTO:-0500
TZNAME:EST
DTSTART:20201101T060000
END:STANDARD
BEGIN:DAYLIGHT
TZOFFSETFROM:-0500
TZOFFSETTO:-0400
TZNAME:EDT
DTSTART:20210314T070000
END:DAYLIGHT
BEGIN:STANDARD
TZOFFSETFROM:-0400
TZOFFSETTO:-0500
TZNAME:EST
DTSTART:20211107T060000
END:STANDARD
BEGIN:DAYLIGHT
TZOFFSETFROM:-0500
TZOFFSETTO:-0400
TZNAME:EDT
DTSTART:20220313T070000
END:DAYLIGHT
BEGIN:STANDARD
TZOFFSETFROM:-0400
TZOFFSETTO:-0500
TZNAME:EST
DTSTART:20221106T060000
END:STANDARD
END:VTIMEZONE
BEGIN:VEVENT
DTSTART;TZID=America/New_York:20210812T150000
DTEND;TZID=America/New_York:20210812T160000
DTSTAMP:20260422T232006
CREATED:20210803T205912Z
LAST-MODIFIED:20210813T133244Z
UID:25053-1628780400-1628784000@cleanairenc.org
SUMMARY:Webinar: Air Permitting 101
DESCRIPTION:Trying to navigate North Carolina’s air quality permitting process? Need guidance on how (and when) to submit public comments on air emission sources? Then join us for Air Permitting 101! This free webinar will go through the in’s and out’s of air quality permitting in North Carolina to shed some light on the relevant laws and rules that regulators must address when considering a permit to pollute in our state. Mark Cuilla and Heather Sands from the NC DEQ’s Division of Air Quality will join to help field questions. \nThis presentation is perfect for community members and advocates looking for a crash course on air quality permits in NC\, and who wish to learn how to provide more effective public comments on air emission sources. \nFeatured speaker: \n\nAndrew Rasetti\, Policy Associate\, CleanAIRE NC\n\nGuest speakers: \n\nMark Cuilla\, Permitting Section Chief\, NC Department of Environmental Quality\, Division of Air Quality\nHeather Sands\, Title V Permit Branch Manager\, NC Department of Environmental Quality\, Division of Air Quality\n\n\nRegistration Form
URL:https://cleanairenc.org/event/air-permitting-101/
LOCATION:Webinar
CATEGORIES:Past
ATTACH;FMTTYPE=image/png:https://cleanairenc.org/wp-content/uploads/2021/08/Air-Permitting-Webinar-Graphic.png
END:VEVENT
END:VCALENDAR