BEGIN:VCALENDAR
VERSION:2.0
PRODID:-//CleanAIRE NC - ECPv6.15.20//NONSGML v1.0//EN
CALSCALE:GREGORIAN
METHOD:PUBLISH
X-WR-CALNAME:CleanAIRE NC
X-ORIGINAL-URL:https://cleanairenc.org
X-WR-CALDESC:Events for CleanAIRE NC
REFRESH-INTERVAL;VALUE=DURATION:PT1H
X-Robots-Tag:noindex
X-PUBLISHED-TTL:PT1H
BEGIN:VTIMEZONE
TZID:America/New_York
BEGIN:DAYLIGHT
TZOFFSETFROM:-0500
TZOFFSETTO:-0400
TZNAME:EDT
DTSTART:20200308T070000
END:DAYLIGHT
BEGIN:STANDARD
TZOFFSETFROM:-0400
TZOFFSETTO:-0500
TZNAME:EST
DTSTART:20201101T060000
END:STANDARD
BEGIN:DAYLIGHT
TZOFFSETFROM:-0500
TZOFFSETTO:-0400
TZNAME:EDT
DTSTART:20210314T070000
END:DAYLIGHT
BEGIN:STANDARD
TZOFFSETFROM:-0400
TZOFFSETTO:-0500
TZNAME:EST
DTSTART:20211107T060000
END:STANDARD
BEGIN:DAYLIGHT
TZOFFSETFROM:-0500
TZOFFSETTO:-0400
TZNAME:EDT
DTSTART:20220313T070000
END:DAYLIGHT
BEGIN:STANDARD
TZOFFSETFROM:-0400
TZOFFSETTO:-0500
TZNAME:EST
DTSTART:20221106T060000
END:STANDARD
END:VTIMEZONE
BEGIN:VEVENT
DTSTART;TZID=America/New_York:20210814T100000
DTEND;TZID=America/New_York:20210814T150000
DTSTAMP:20260422T232006
CREATED:20210804T021200Z
LAST-MODIFIED:20210816T140219Z
UID:25064-1628935200-1628953200@cleanairenc.org
SUMMARY:Charge for Change – High Point
DESCRIPTION:The time for Clean Energy investment is now. We are at a crossroads where we must have massive investment in our climate coupled with divestment from fossil fuels. \nThis event highlights the need for clean energy transportation solutions through the following: \n\nan EV car show\nconstituent meetings with elected officials\nnetworking with leading small businesses\, non profits\, and community leaders on local solutions and clean energy manufacturing jobs.\nGreen Jobs discussion\nElectric Vehicle 101\nLetter to the Editor Training\nand more!\n\nSign up now at https://www.mobilize.us/edfaction/event/402540/
URL:https://cleanairenc.org/event/charge-for-change-high-point/
LOCATION:Crescent Ford\, 100 Old Winston Rd\, High Point\, NC\, 27265\, United States
CATEGORIES:Past
ATTACH;FMTTYPE=image/png:https://cleanairenc.org/wp-content/uploads/2021/08/Charge-for-Change-High-Point.png
END:VEVENT
END:VCALENDAR