BEGIN:VCALENDAR
VERSION:2.0
PRODID:-//CleanAIRE NC - ECPv6.15.20//NONSGML v1.0//EN
CALSCALE:GREGORIAN
METHOD:PUBLISH
X-WR-CALNAME:CleanAIRE NC
X-ORIGINAL-URL:https://cleanairenc.org
X-WR-CALDESC:Events for CleanAIRE NC
REFRESH-INTERVAL;VALUE=DURATION:PT1H
X-Robots-Tag:noindex
X-PUBLISHED-TTL:PT1H
BEGIN:VTIMEZONE
TZID:UTC
BEGIN:STANDARD
TZOFFSETFROM:+0000
TZOFFSETTO:+0000
TZNAME:UTC
DTSTART:20200101T000000
END:STANDARD
END:VTIMEZONE
BEGIN:VEVENT
DTSTART;TZID=UTC:20210818T140000
DTEND;TZID=UTC:20210818T150000
DTSTAMP:20260422T232008
CREATED:20190924T155533Z
LAST-MODIFIED:20210818T150905Z
UID:5986-1629295200-1629298800@cleanairenc.org
SUMMARY:Energy Efficiency as a Building Block to the Clean Energy Future
DESCRIPTION:Part of NC Sustainable Energy Association’s ‘Making Energy Work 2021’ webinar series\, featuring varying topics in clean energy from finance to policy and market insights. Join hundreds of attendees from across the country to get the latest scoop on trending clean energy topics sweeping the industry. Each webinar will feature nationally and regionally renowned experts within their respective fields to help shape the conversations driving clean energy forward in North Carolina and the country.
URL:https://cleanairenc.org/event/energy-efficiency-as-a-building-block-to-the-clean-energy-future/
LOCATION:NC
CATEGORIES:Past
ATTACH;FMTTYPE=image/png:https://cleanairenc.org/wp-content/uploads/2019/09/Making-Energy-Work-Webinar-Series-2021.png
END:VEVENT
END:VCALENDAR