BEGIN:VCALENDAR
VERSION:2.0
PRODID:-//CleanAIRE NC - ECPv6.15.20//NONSGML v1.0//EN
CALSCALE:GREGORIAN
METHOD:PUBLISH
X-ORIGINAL-URL:https://cleanairenc.org
X-WR-CALDESC:Events for CleanAIRE NC
REFRESH-INTERVAL;VALUE=DURATION:PT1H
X-Robots-Tag:noindex
X-PUBLISHED-TTL:PT1H
BEGIN:VTIMEZONE
TZID:America/New_York
BEGIN:DAYLIGHT
TZOFFSETFROM:-0500
TZOFFSETTO:-0400
TZNAME:EDT
DTSTART:20200308T070000
END:DAYLIGHT
BEGIN:STANDARD
TZOFFSETFROM:-0400
TZOFFSETTO:-0500
TZNAME:EST
DTSTART:20201101T060000
END:STANDARD
BEGIN:DAYLIGHT
TZOFFSETFROM:-0500
TZOFFSETTO:-0400
TZNAME:EDT
DTSTART:20210314T070000
END:DAYLIGHT
BEGIN:STANDARD
TZOFFSETFROM:-0400
TZOFFSETTO:-0500
TZNAME:EST
DTSTART:20211107T060000
END:STANDARD
BEGIN:DAYLIGHT
TZOFFSETFROM:-0500
TZOFFSETTO:-0400
TZNAME:EDT
DTSTART:20220313T070000
END:DAYLIGHT
BEGIN:STANDARD
TZOFFSETFROM:-0400
TZOFFSETTO:-0500
TZNAME:EST
DTSTART:20221106T060000
END:STANDARD
END:VTIMEZONE
BEGIN:VEVENT
DTSTART;TZID=America/New_York:20210821T100000
DTEND;TZID=America/New_York:20210821T150000
DTSTAMP:20260422T232141
CREATED:20210804T021434Z
LAST-MODIFIED:20210823T175655Z
UID:25069-1629540000-1629558000@cleanairenc.org
SUMMARY:Charge for Change – Triangle
DESCRIPTION:The time for Clean Energy investment is now. We are at a crossroads where we must have massive investment in our climate coupled with divestment from fossil fuels. \nThis event highlights the need for clean energy transportation solutions through the following: \n\nan EV car show\nconstituent meetings with elected officials\nnetworking with leading small businesses\, non profits\, and community leaders on local solutions and clean energy manufacturing jobs.\nGreen Jobs discussion\nElectric Vehicle 101\nLetter to the Editor Training\nand more!\n\nSign up now at https://www.mobilize.us/edfaction/event/402556/
URL:https://cleanairenc.org/event/charge-for-change-triangle/
LOCATION:NCSU Campus\, 930 Main Campus Dr\, Raleigh\, 27606
CATEGORIES:Past
ATTACH;FMTTYPE=image/png:https://cleanairenc.org/wp-content/uploads/2021/08/Charge-for-Change-Triangle.png
END:VEVENT
END:VCALENDAR