BEGIN:VCALENDAR
VERSION:2.0
PRODID:-//CleanAIRE NC - ECPv6.15.20//NONSGML v1.0//EN
CALSCALE:GREGORIAN
METHOD:PUBLISH
X-ORIGINAL-URL:https://cleanairenc.org
X-WR-CALDESC:Events for CleanAIRE NC
REFRESH-INTERVAL;VALUE=DURATION:PT1H
X-Robots-Tag:noindex
X-PUBLISHED-TTL:PT1H
BEGIN:VTIMEZONE
TZID:America/New_York
BEGIN:DAYLIGHT
TZOFFSETFROM:-0500
TZOFFSETTO:-0400
TZNAME:EDT
DTSTART:20200308T070000
END:DAYLIGHT
BEGIN:STANDARD
TZOFFSETFROM:-0400
TZOFFSETTO:-0500
TZNAME:EST
DTSTART:20201101T060000
END:STANDARD
BEGIN:DAYLIGHT
TZOFFSETFROM:-0500
TZOFFSETTO:-0400
TZNAME:EDT
DTSTART:20210314T070000
END:DAYLIGHT
BEGIN:STANDARD
TZOFFSETFROM:-0400
TZOFFSETTO:-0500
TZNAME:EST
DTSTART:20211107T060000
END:STANDARD
BEGIN:DAYLIGHT
TZOFFSETFROM:-0500
TZOFFSETTO:-0400
TZNAME:EDT
DTSTART:20220313T070000
END:DAYLIGHT
BEGIN:STANDARD
TZOFFSETFROM:-0400
TZOFFSETTO:-0500
TZNAME:EST
DTSTART:20221106T060000
END:STANDARD
END:VTIMEZONE
BEGIN:VEVENT
DTSTART;TZID=America/New_York:20210902T133000
DTEND;TZID=America/New_York:20210902T143000
DTSTAMP:20260422T211106
CREATED:20210816T170112Z
LAST-MODIFIED:20210902T200241Z
UID:25125-1630589400-1630593000@cleanairenc.org
SUMMARY:North Carolina Climate Reporting Town Hall
DESCRIPTION:Climate change is no longer a distant worry. It’s already changing our lives. That’s why WFAE is expanding their coverage of the topic\, looking at how climate change is affecting the Carolinas and how we’re responding.\n\nAt this virtual town-hall discussion on climate change in the Carolinas\, WFAE climate reporter David Boraks will discuss reporting on topics such as coastal erosion and sea level rise\, flooding from more frequent and intense storms\, and the drive for more renewable energy.\n\nRegister at https://docs.google.com/forms/d/e/1FAIpQLScGTznTRuvZeRshUI3TkWbOfWXB_wmgMxUPqXhyqM-Jkx82Lw/viewform.
URL:https://cleanairenc.org/event/north-carolina-climate-reporting-town-hall/
LOCATION:Virtual
CATEGORIES:Past
ATTACH;FMTTYPE=image/jpeg:https://cleanairenc.org/wp-content/uploads/2021/08/David-Boraks_Climate-Change-Town-Hall.jpeg
END:VEVENT
END:VCALENDAR