BEGIN:VCALENDAR
VERSION:2.0
PRODID:-//CleanAIRE NC - ECPv6.15.20//NONSGML v1.0//EN
CALSCALE:GREGORIAN
METHOD:PUBLISH
X-ORIGINAL-URL:https://cleanairenc.org
X-WR-CALDESC:Events for CleanAIRE NC
REFRESH-INTERVAL;VALUE=DURATION:PT1H
X-Robots-Tag:noindex
X-PUBLISHED-TTL:PT1H
BEGIN:VTIMEZONE
TZID:America/New_York
BEGIN:DAYLIGHT
TZOFFSETFROM:-0500
TZOFFSETTO:-0400
TZNAME:EDT
DTSTART:20200308T070000
END:DAYLIGHT
BEGIN:STANDARD
TZOFFSETFROM:-0400
TZOFFSETTO:-0500
TZNAME:EST
DTSTART:20201101T060000
END:STANDARD
BEGIN:DAYLIGHT
TZOFFSETFROM:-0500
TZOFFSETTO:-0400
TZNAME:EDT
DTSTART:20210314T070000
END:DAYLIGHT
BEGIN:STANDARD
TZOFFSETFROM:-0400
TZOFFSETTO:-0500
TZNAME:EST
DTSTART:20211107T060000
END:STANDARD
BEGIN:DAYLIGHT
TZOFFSETFROM:-0500
TZOFFSETTO:-0400
TZNAME:EDT
DTSTART:20220313T070000
END:DAYLIGHT
BEGIN:STANDARD
TZOFFSETFROM:-0400
TZOFFSETTO:-0500
TZNAME:EST
DTSTART:20221106T060000
END:STANDARD
END:VTIMEZONE
BEGIN:VEVENT
DTSTART;TZID=America/New_York:20210925T100000
DTEND;TZID=America/New_York:20210925T140000
DTSTAMP:20260422T211106
CREATED:20210921T190023Z
LAST-MODIFIED:20210927T172905Z
UID:25474-1632564000-1632578400@cleanairenc.org
SUMMARY:Harrisburg\, NC Drive Electric Event
DESCRIPTION:Part of National Drive Electric Week. Come check out a variety of electric vehicles (EVs) in person (COVID-safe protocols in place) to learn more about the benefits of EVs and talk to current EV drivers about their experiences. There will also be information shared about the two charging stations in Harrisburg.
URL:https://cleanairenc.org/event/harrisburg-nc-drive-electric-event/
LOCATION:Harrisburg Town Center\, 6405 Kee Lane\, Harrisburg\, NC\, 28075\, United States
CATEGORIES:Past
ATTACH;FMTTYPE=image/jpeg:https://cleanairenc.org/wp-content/uploads/2021/09/Harrisburg-Drive-Electric-Event_complete-1.jpg
END:VEVENT
END:VCALENDAR