BEGIN:VCALENDAR
VERSION:2.0
PRODID:-//CleanAIRE NC - ECPv6.15.20//NONSGML v1.0//EN
CALSCALE:GREGORIAN
METHOD:PUBLISH
X-ORIGINAL-URL:https://cleanairenc.org
X-WR-CALDESC:Events for CleanAIRE NC
REFRESH-INTERVAL;VALUE=DURATION:PT1H
X-Robots-Tag:noindex
X-PUBLISHED-TTL:PT1H
BEGIN:VTIMEZONE
TZID:America/New_York
BEGIN:DAYLIGHT
TZOFFSETFROM:-0500
TZOFFSETTO:-0400
TZNAME:EDT
DTSTART:20200308T070000
END:DAYLIGHT
BEGIN:STANDARD
TZOFFSETFROM:-0400
TZOFFSETTO:-0500
TZNAME:EST
DTSTART:20201101T060000
END:STANDARD
BEGIN:DAYLIGHT
TZOFFSETFROM:-0500
TZOFFSETTO:-0400
TZNAME:EDT
DTSTART:20210314T070000
END:DAYLIGHT
BEGIN:STANDARD
TZOFFSETFROM:-0400
TZOFFSETTO:-0500
TZNAME:EST
DTSTART:20211107T060000
END:STANDARD
BEGIN:DAYLIGHT
TZOFFSETFROM:-0500
TZOFFSETTO:-0400
TZNAME:EDT
DTSTART:20220313T070000
END:DAYLIGHT
BEGIN:STANDARD
TZOFFSETFROM:-0400
TZOFFSETTO:-0500
TZNAME:EST
DTSTART:20221106T060000
END:STANDARD
END:VTIMEZONE
BEGIN:VEVENT
DTSTART;TZID=America/New_York:20210927T120000
DTEND;TZID=America/New_York:20210927T130000
DTSTAMP:20260422T192704
CREATED:20210908T143226Z
LAST-MODIFIED:20210927T172830Z
UID:25348-1632744000-1632747600@cleanairenc.org
SUMMARY:Climate Change & Maternal Health Equity
DESCRIPTION:CleanAIRE NC and NCCCA invite perinatal healthcare providers (obstetricians\, pediatricians\, midwives\, nurses\, doulas)\, pregnant moms\, and community members interested in health equity to join this Zoom session to learn more about how climate change affects pregnancy and child health\, with particular attention to the disproportionate impacts in Black and Latinx communities. The panel conversation will feature frontline community members who are already feeling the impact of climate change and: \n\nDr. Stephanie Johannes\, Pediatrician and CleanAIRE NC Health Program Manager\nJoy Spencer\, Executive Director of Equity Before Birth\nMaya Jackson\, Founder and Executive Director of Mobilizing African American Mothers for Empowerment (MAAME)\nMax Cawley\, Program Manager at the Museum of Life and Science\n\nGo to https://cleanairenc.salsalabs.org/WebinarClimateChangeMaternalHealthEquity/index.html to register.
URL:https://cleanairenc.org/event/climate-change-maternal-health-equity/
LOCATION:Virtual
CATEGORIES:Past
ATTACH;FMTTYPE=image/png:https://cleanairenc.org/wp-content/uploads/2021/09/Climate-Changes-Pregnancy-Flyer-1-Twitter-title-2.png
END:VEVENT
END:VCALENDAR