BEGIN:VCALENDAR
VERSION:2.0
PRODID:-//CleanAIRE NC - ECPv6.15.20//NONSGML v1.0//EN
CALSCALE:GREGORIAN
METHOD:PUBLISH
X-ORIGINAL-URL:https://cleanairenc.org
X-WR-CALDESC:Events for CleanAIRE NC
REFRESH-INTERVAL;VALUE=DURATION:PT1H
X-Robots-Tag:noindex
X-PUBLISHED-TTL:PT1H
BEGIN:VTIMEZONE
TZID:America/New_York
BEGIN:DAYLIGHT
TZOFFSETFROM:-0500
TZOFFSETTO:-0400
TZNAME:EDT
DTSTART:20200308T070000
END:DAYLIGHT
BEGIN:STANDARD
TZOFFSETFROM:-0400
TZOFFSETTO:-0500
TZNAME:EST
DTSTART:20201101T060000
END:STANDARD
BEGIN:DAYLIGHT
TZOFFSETFROM:-0500
TZOFFSETTO:-0400
TZNAME:EDT
DTSTART:20210314T070000
END:DAYLIGHT
BEGIN:STANDARD
TZOFFSETFROM:-0400
TZOFFSETTO:-0500
TZNAME:EST
DTSTART:20211107T060000
END:STANDARD
BEGIN:DAYLIGHT
TZOFFSETFROM:-0500
TZOFFSETTO:-0400
TZNAME:EDT
DTSTART:20220313T070000
END:DAYLIGHT
BEGIN:STANDARD
TZOFFSETFROM:-0400
TZOFFSETTO:-0500
TZNAME:EST
DTSTART:20221106T060000
END:STANDARD
END:VTIMEZONE
BEGIN:VEVENT
DTSTART;TZID=America/New_York:20210930T170000
DTEND;TZID=America/New_York:20210930T174500
DTSTAMP:20260422T192705
CREATED:20210927T172806Z
LAST-MODIFIED:20211004T162222Z
UID:25525-1633021200-1633023900@cleanairenc.org
SUMMARY:Webinar: NC Haze Plan
DESCRIPTION:According to air quality monitoring data\, the Great Smoky Mountains National Park is ranked as the ninth most HAZE pollution burdened park in the United States. Haze pollution comes from coal plants\, industrial facilities\, vehicles\, and other sources and is made up of the same pollutants that harm people’s health. The North Carolina Division of Air Quality\, the state’s air quality regulator\, is currently updating its plan that is supposed to make reasonable progress toward improving air quality and visibility in Class 1 areas (like Joyce-Kilmer-Slickrock and Linville Gorge Wilderness Areas and Great Smoky Mountains National park). But despite clear authority to fully review all the pollution-causing haze and all polluting sources in the state\, DAQ has chosen to ignore nitrogen oxides\, particulate matter\, and over 26 haze-polluting facilities\, including major coal plants. \nOn September 30\, CleanAIRE NC\, The National Parks Conservation Association\, Sierra Club\, and Environment North Carolina are co-hosting a webinar to discuss the state’s inadequate haze plan. A panel of experts will discuss where the state’s proposal falls short and offer concerned citizens and outdoor enthusiasts ways to advocate for a stronger State Implementation Plan that addresses haze pollution and makes our parks and communities healthier\, cleaner places to explore and play. \nIf you are interested in joining this important webinar\, take a moment to register by going here: https://cleanairenc.salsalabs.org/NCHazeWebinar/index.html
URL:https://cleanairenc.org/event/webinar-nc-haze-plan/
LOCATION:Virtual
CATEGORIES:Past
ATTACH;FMTTYPE=image/jpeg:https://cleanairenc.org/wp-content/uploads/2021/09/Haze-Webinar-Event-Calendar-1-scaled.jpg
END:VEVENT
END:VCALENDAR