BEGIN:VCALENDAR
VERSION:2.0
PRODID:-//CleanAIRE NC - ECPv6.15.20//NONSGML v1.0//EN
CALSCALE:GREGORIAN
METHOD:PUBLISH
X-WR-CALNAME:CleanAIRE NC
X-ORIGINAL-URL:https://cleanairenc.org
X-WR-CALDESC:Events for CleanAIRE NC
REFRESH-INTERVAL;VALUE=DURATION:PT1H
X-Robots-Tag:noindex
X-PUBLISHED-TTL:PT1H
BEGIN:VTIMEZONE
TZID:America/New_York
BEGIN:DAYLIGHT
TZOFFSETFROM:-0500
TZOFFSETTO:-0400
TZNAME:EDT
DTSTART:20200308T070000
END:DAYLIGHT
BEGIN:STANDARD
TZOFFSETFROM:-0400
TZOFFSETTO:-0500
TZNAME:EST
DTSTART:20201101T060000
END:STANDARD
BEGIN:DAYLIGHT
TZOFFSETFROM:-0500
TZOFFSETTO:-0400
TZNAME:EDT
DTSTART:20210314T070000
END:DAYLIGHT
BEGIN:STANDARD
TZOFFSETFROM:-0400
TZOFFSETTO:-0500
TZNAME:EST
DTSTART:20211107T060000
END:STANDARD
BEGIN:DAYLIGHT
TZOFFSETFROM:-0500
TZOFFSETTO:-0400
TZNAME:EDT
DTSTART:20220313T070000
END:DAYLIGHT
BEGIN:STANDARD
TZOFFSETFROM:-0400
TZOFFSETTO:-0500
TZNAME:EST
DTSTART:20221106T060000
END:STANDARD
END:VTIMEZONE
BEGIN:VEVENT
DTSTART;TZID=America/New_York:20211012T120000
DTEND;TZID=America/New_York:20211012T131500
DTSTAMP:20260422T192709
CREATED:20211004T162534Z
LAST-MODIFIED:20211013T141429Z
UID:25734-1634040000-1634044500@cleanairenc.org
SUMMARY:Pulling Back the Curtain: Who's Charting our Energy Future?
DESCRIPTION:How does North Carolina incentivize clean energy production and infrastructure? What are the rules governing household electricity rates? How are we helping families adopt rooftop solar and electric vehicles\, and what more could we be doing? \nAll of these crucial decisions involve the North Carolina Utilities Commission (NCUC)\, a group of seven appointed regulators who wield immense power over our energy and climate policy. Come learn how this little-known state agency works\, and how a few people can make a huge difference to NC’s clean energy future. \nPulling Back the Curtain: Who’s Charting Our Energy Future?\nSession 2: The Regulatory Process in North Carolina\nRegister Today \nUtility companies benefit from NCUC proceedings dominated by complex and arcane policy arguments that can feel inaccessible to many energy advocates. The goal of this course is to explain in plain language how the current regulatory system works\, and how advocates and nonprofits can get involved to move this system in a better direction. \nParticipants will learn: \n\nWhat is the NCUC\, and why it’s important;\nHow we can create a system that’s more just\, and that puts people over profits;\nWhy our current policies are incentivizing utilities to hang onto fossil fuels\, and what we can do to change that;\nAnd much more.\n\nClass Dates: \n\nTuesday\, October 12\nTuesday\, October 26\nTuesday\, November 9\nTuesday\, November 23\nTuesday\, December 14\n\nBy understanding how the NCUC works\, we can positively affect policy outcomes and accelerate North Carolina’s transition to a clean energy economy. \nRegister now at https://cleanairenc.org/nc-energy-webinar-series/.
URL:https://cleanairenc.org/event/pulling-back-the-curtain-whos-charting-our-energy-future-3/
LOCATION:Virtual
CATEGORIES:Past
ATTACH;FMTTYPE=image/png:https://cleanairenc.org/wp-content/uploads/2021/09/Pulling-Back-the-Curtain_Social-Graphic.png
END:VEVENT
END:VCALENDAR