BEGIN:VCALENDAR
VERSION:2.0
PRODID:-//CleanAIRE NC - ECPv6.15.20//NONSGML v1.0//EN
CALSCALE:GREGORIAN
METHOD:PUBLISH
X-WR-CALNAME:CleanAIRE NC
X-ORIGINAL-URL:https://cleanairenc.org
X-WR-CALDESC:Events for CleanAIRE NC
REFRESH-INTERVAL;VALUE=DURATION:PT1H
X-Robots-Tag:noindex
X-PUBLISHED-TTL:PT1H
BEGIN:VTIMEZONE
TZID:America/New_York
BEGIN:DAYLIGHT
TZOFFSETFROM:-0500
TZOFFSETTO:-0400
TZNAME:EDT
DTSTART:20200308T070000
END:DAYLIGHT
BEGIN:STANDARD
TZOFFSETFROM:-0400
TZOFFSETTO:-0500
TZNAME:EST
DTSTART:20201101T060000
END:STANDARD
BEGIN:DAYLIGHT
TZOFFSETFROM:-0500
TZOFFSETTO:-0400
TZNAME:EDT
DTSTART:20210314T070000
END:DAYLIGHT
BEGIN:STANDARD
TZOFFSETFROM:-0400
TZOFFSETTO:-0500
TZNAME:EST
DTSTART:20211107T060000
END:STANDARD
BEGIN:DAYLIGHT
TZOFFSETFROM:-0500
TZOFFSETTO:-0400
TZNAME:EDT
DTSTART:20220313T070000
END:DAYLIGHT
BEGIN:STANDARD
TZOFFSETFROM:-0400
TZOFFSETTO:-0500
TZNAME:EST
DTSTART:20221106T060000
END:STANDARD
END:VTIMEZONE
BEGIN:VEVENT
DTSTART;VALUE=DATE:20211024
DTEND;VALUE=DATE:20211025
DTSTAMP:20260422T192709
CREATED:20210916T195745Z
LAST-MODIFIED:20211028T185149Z
UID:25420-1635033600-1635119999@cleanairenc.org
SUMMARY:Biketoberfest 2021
DESCRIPTION:Biketoberfest benefiting Sustain Charlotte returns in-person in 2021! This unique event shows hundreds of people how easy it is to get around Charlotte by bike. From families to confident cyclists\, Biketoberfest will show you fun and easy routes to get to destinations around the city.
URL:https://cleanairenc.org/event/biketoberfest-2021/
LOCATION:Triple C Brewing Company\, 2900 Griffith St\, Charlotte\, NC\, 28203\, United States
CATEGORIES:Past
ATTACH;FMTTYPE=image/jpeg:https://cleanairenc.org/wp-content/uploads/2021/09/biketoberfestlogo_RGB.jpeg
END:VEVENT
END:VCALENDAR