BEGIN:VCALENDAR
VERSION:2.0
PRODID:-//CleanAIRE NC - ECPv6.15.20//NONSGML v1.0//EN
CALSCALE:GREGORIAN
METHOD:PUBLISH
X-WR-CALNAME:CleanAIRE NC
X-ORIGINAL-URL:https://cleanairenc.org
X-WR-CALDESC:Events for CleanAIRE NC
REFRESH-INTERVAL;VALUE=DURATION:PT1H
X-Robots-Tag:noindex
X-PUBLISHED-TTL:PT1H
BEGIN:VTIMEZONE
TZID:America/New_York
BEGIN:DAYLIGHT
TZOFFSETFROM:-0500
TZOFFSETTO:-0400
TZNAME:EDT
DTSTART:20200308T070000
END:DAYLIGHT
BEGIN:STANDARD
TZOFFSETFROM:-0400
TZOFFSETTO:-0500
TZNAME:EST
DTSTART:20201101T060000
END:STANDARD
BEGIN:DAYLIGHT
TZOFFSETFROM:-0500
TZOFFSETTO:-0400
TZNAME:EDT
DTSTART:20210314T070000
END:DAYLIGHT
BEGIN:STANDARD
TZOFFSETFROM:-0400
TZOFFSETTO:-0500
TZNAME:EST
DTSTART:20211107T060000
END:STANDARD
BEGIN:DAYLIGHT
TZOFFSETFROM:-0500
TZOFFSETTO:-0400
TZNAME:EDT
DTSTART:20220313T070000
END:DAYLIGHT
BEGIN:STANDARD
TZOFFSETFROM:-0400
TZOFFSETTO:-0500
TZNAME:EST
DTSTART:20221106T060000
END:STANDARD
END:VTIMEZONE
BEGIN:VEVENT
DTSTART;TZID=America/New_York:20211102T190000
DTEND;TZID=America/New_York:20211102T200000
DTSTAMP:20260422T172056
CREATED:20211021T210509Z
LAST-MODIFIED:20220705T154557Z
UID:25886-1635879600-1635883200@cleanairenc.org
SUMMARY:Biogas & Communities
DESCRIPTION:North Carolina Interfaith Power & Light (NCIPL)\, a program of the NC Council of Churches\, is sponsoring a webinar series to educate faith communities about the problem of hog waste biogas and to amplify local community voices on the issue. \nThe second webinar on November 2nd at 7 p.m. will provide the community with the opportunity to share how communities of faith can collaborate with and support them in the effort to protect their health and well-being. Featured speakers include: \n\nBlakely Hildebrand\, SELC (facilitator)\nDaisha Williams\, CleanAIRE NC\nRev. Jimmy Melvin\, Mt. Zion AME Zion Church
URL:https://cleanairenc.org/event/biogas-communities/
LOCATION:Virtual
CATEGORIES:Past
END:VEVENT
END:VCALENDAR