BEGIN:VCALENDAR
VERSION:2.0
PRODID:-//CleanAIRE NC - ECPv6.15.20//NONSGML v1.0//EN
CALSCALE:GREGORIAN
METHOD:PUBLISH
X-ORIGINAL-URL:https://cleanairenc.org
X-WR-CALDESC:Events for CleanAIRE NC
REFRESH-INTERVAL;VALUE=DURATION:PT1H
X-Robots-Tag:noindex
X-PUBLISHED-TTL:PT1H
BEGIN:VTIMEZONE
TZID:America/New_York
BEGIN:DAYLIGHT
TZOFFSETFROM:-0500
TZOFFSETTO:-0400
TZNAME:EDT
DTSTART:20200308T070000
END:DAYLIGHT
BEGIN:STANDARD
TZOFFSETFROM:-0400
TZOFFSETTO:-0500
TZNAME:EST
DTSTART:20201101T060000
END:STANDARD
BEGIN:DAYLIGHT
TZOFFSETFROM:-0500
TZOFFSETTO:-0400
TZNAME:EDT
DTSTART:20210314T070000
END:DAYLIGHT
BEGIN:STANDARD
TZOFFSETFROM:-0400
TZOFFSETTO:-0500
TZNAME:EST
DTSTART:20211107T060000
END:STANDARD
BEGIN:DAYLIGHT
TZOFFSETFROM:-0500
TZOFFSETTO:-0400
TZNAME:EDT
DTSTART:20220313T070000
END:DAYLIGHT
BEGIN:STANDARD
TZOFFSETFROM:-0400
TZOFFSETTO:-0500
TZNAME:EST
DTSTART:20221106T060000
END:STANDARD
END:VTIMEZONE
BEGIN:VEVENT
DTSTART;TZID=America/New_York:20211103T160000
DTEND;TZID=America/New_York:20211104T173000
DTSTAMP:20260422T172055
CREATED:20210908T143627Z
LAST-MODIFIED:20220421T151522Z
UID:25350-1635955200-1636047000@cleanairenc.org
SUMMARY:NC Climate Ambassador Training
DESCRIPTION:Through our partnership with ecoAmerica’s Path to Positive Communities we are equipping civic leaders and community advocates with the knowledge\, communications skills\, and resources to speak and act confidently on climate change solutions. This two-day virtual training provides an opportunity for you to learn the latest about climate change impacts on NC communities\, solutions available right now that would decrease greenhouse gas emissions and create jobs\, and how to communicate these issues to everyone from members of your book group to your state representatives. \nRSVP Now.
URL:https://cleanairenc.org/event/nc-climate-ambassador-training/
LOCATION:Virtual
CATEGORIES:Past
ATTACH;FMTTYPE=image/jpeg:https://cleanairenc.org/wp-content/uploads/2021/10/clim-ambass_Nov-3-1.jpg
END:VEVENT
BEGIN:VEVENT
DTSTART;VALUE=DATE:20211104
DTEND;VALUE=DATE:20211107
DTSTAMP:20260422T172055
CREATED:20210916T195318Z
LAST-MODIFIED:20211108T165122Z
UID:25414-1635984000-1636243199@cleanairenc.org
SUMMARY:NC BikeWalk Summit
DESCRIPTION:Wherever you are located\, in North Carolina or beyond\, BikeWalk NC invites you to join them either in Durham or remotely November 4-6th for their 10th Annual NC BikeWalk Summit.
URL:https://cleanairenc.org/event/nc-bikewalk-summit/
LOCATION:W.G. Pearson Center\, 600 E Umstead St\, Durham\, 27701\, United States
CATEGORIES:Past
ATTACH;FMTTYPE=image/jpeg:https://cleanairenc.org/wp-content/uploads/2021/09/BikeWalkSummit_2021-logo.jpeg
END:VEVENT
END:VCALENDAR