BEGIN:VCALENDAR
VERSION:2.0
PRODID:-//CleanAIRE NC - ECPv6.15.20//NONSGML v1.0//EN
CALSCALE:GREGORIAN
METHOD:PUBLISH
X-WR-CALNAME:CleanAIRE NC
X-ORIGINAL-URL:https://cleanairenc.org
X-WR-CALDESC:Events for CleanAIRE NC
REFRESH-INTERVAL;VALUE=DURATION:PT1H
X-Robots-Tag:noindex
X-PUBLISHED-TTL:PT1H
BEGIN:VTIMEZONE
TZID:America/New_York
BEGIN:DAYLIGHT
TZOFFSETFROM:-0500
TZOFFSETTO:-0400
TZNAME:EDT
DTSTART:20200308T070000
END:DAYLIGHT
BEGIN:STANDARD
TZOFFSETFROM:-0400
TZOFFSETTO:-0500
TZNAME:EST
DTSTART:20201101T060000
END:STANDARD
BEGIN:DAYLIGHT
TZOFFSETFROM:-0500
TZOFFSETTO:-0400
TZNAME:EDT
DTSTART:20210314T070000
END:DAYLIGHT
BEGIN:STANDARD
TZOFFSETFROM:-0400
TZOFFSETTO:-0500
TZNAME:EST
DTSTART:20211107T060000
END:STANDARD
BEGIN:DAYLIGHT
TZOFFSETFROM:-0500
TZOFFSETTO:-0400
TZNAME:EDT
DTSTART:20220313T070000
END:DAYLIGHT
BEGIN:STANDARD
TZOFFSETFROM:-0400
TZOFFSETTO:-0500
TZNAME:EST
DTSTART:20221106T060000
END:STANDARD
END:VTIMEZONE
BEGIN:VEVENT
DTSTART;VALUE=DATE:20211209
DTEND;VALUE=DATE:20211211
DTSTAMP:20260422T153037
CREATED:20211122T175847Z
LAST-MODIFIED:20211214T153449Z
UID:26400-1639008000-1639180799@cleanairenc.org
SUMMARY:2021 SC Clean Energy Conference & Southeast Energy Law Seminar
DESCRIPTION:On December 9th E4 Carolinas convenes South Carolinas’ largest annual energy conference in Greenville\, SC. It traditionally attracts hundreds of energy professionals from the region. \nThen on December 10th E4 Carolinas produces the Southeast Energy Law Seminar\, covering the latest activity from the Federal Energy Regulatory Commission\, a run-down of the recent legislative and regulatory activities from all Southeast states\, and emerging legal issues related to the energy transition taking place nationally. A great way for attorneys to meet their annual CLE requirement. \nReserve your spot for either or both of these great events at https://www.eventbrite.com/e/2021-sc-clean-energy-conference-southeast-energy-law-seminar-tickets-137854732215
URL:https://cleanairenc.org/event/2021-sc-clean-energy-conference-southeast-energy-law-seminar/
LOCATION:Furman University\, 3300 Poinsett Hwy\, Greenville\, SC\, 29613\, United States
CATEGORIES:Past
ATTACH;FMTTYPE=image/jpeg:https://cleanairenc.org/wp-content/uploads/2021/11/SC-Energy-Conference-E4.jpeg
END:VEVENT
END:VCALENDAR