BEGIN:VCALENDAR
VERSION:2.0
PRODID:-//CleanAIRE NC - ECPv6.15.20//NONSGML v1.0//EN
CALSCALE:GREGORIAN
METHOD:PUBLISH
X-WR-CALNAME:CleanAIRE NC
X-ORIGINAL-URL:https://cleanairenc.org
X-WR-CALDESC:Events for CleanAIRE NC
REFRESH-INTERVAL;VALUE=DURATION:PT1H
X-Robots-Tag:noindex
X-PUBLISHED-TTL:PT1H
BEGIN:VTIMEZONE
TZID:UTC
BEGIN:STANDARD
TZOFFSETFROM:+0000
TZOFFSETTO:+0000
TZNAME:UTC
DTSTART:20210101T000000
END:STANDARD
END:VTIMEZONE
BEGIN:VEVENT
DTSTART;TZID=UTC:20220217T120000
DTEND;TZID=UTC:20220218T133000
DTSTAMP:20260422T115643
CREATED:20220216T180005Z
LAST-MODIFIED:20220222T164011Z
UID:27128-1645099200-1645191000@cleanairenc.org
SUMMARY:Breathe Again: Health Air is Health Care
DESCRIPTION:Did you know that more than 40% of the U.S. is breathing dirty air and that in 46 states\, communities of color are exposed to higher levels of dangerous air pollution than white communities? We have the power to take action! \nRegister now for this two-day training event to connect with others working on air pollution & the climate crisis\, take action by calling elected officials\, and learn how you can amplify your impact with “Train the Trainer” sessions! \nLearn more and register at https://ncipl.org/breathe-again/.
URL:https://cleanairenc.org/event/breathe-again-health-air-is-health-care/
LOCATION:Virtual
CATEGORIES:Past
ATTACH;FMTTYPE=image/png:https://cleanairenc.org/wp-content/uploads/2022/02/Breathe-Again.png
END:VEVENT
END:VCALENDAR