BEGIN:VCALENDAR
VERSION:2.0
PRODID:-//CleanAIRE NC - ECPv6.15.20//NONSGML v1.0//EN
CALSCALE:GREGORIAN
METHOD:PUBLISH
X-ORIGINAL-URL:https://cleanairenc.org
X-WR-CALDESC:Events for CleanAIRE NC
REFRESH-INTERVAL;VALUE=DURATION:PT1H
X-Robots-Tag:noindex
X-PUBLISHED-TTL:PT1H
BEGIN:VTIMEZONE
TZID:America/New_York
BEGIN:DAYLIGHT
TZOFFSETFROM:-0500
TZOFFSETTO:-0400
TZNAME:EDT
DTSTART:20210314T070000
END:DAYLIGHT
BEGIN:STANDARD
TZOFFSETFROM:-0400
TZOFFSETTO:-0500
TZNAME:EST
DTSTART:20211107T060000
END:STANDARD
BEGIN:DAYLIGHT
TZOFFSETFROM:-0500
TZOFFSETTO:-0400
TZNAME:EDT
DTSTART:20220313T070000
END:DAYLIGHT
BEGIN:STANDARD
TZOFFSETFROM:-0400
TZOFFSETTO:-0500
TZNAME:EST
DTSTART:20221106T060000
END:STANDARD
BEGIN:DAYLIGHT
TZOFFSETFROM:-0500
TZOFFSETTO:-0400
TZNAME:EDT
DTSTART:20230312T070000
END:DAYLIGHT
BEGIN:STANDARD
TZOFFSETFROM:-0400
TZOFFSETTO:-0500
TZNAME:EST
DTSTART:20231105T060000
END:STANDARD
END:VTIMEZONE
BEGIN:VEVENT
DTSTART;TZID=America/New_York:20220311T200000
DTEND;TZID=America/New_York:20220326T220000
DTSTAMP:20260422T094048
CREATED:20220217T180211Z
LAST-MODIFIED:20220330T172713Z
UID:27135-1647028800-1648332000@cleanairenc.org
SUMMARY:'The Children' presented by Three Bone Theatre & CleanAIRE NC
DESCRIPTION:We are thrilled to announce our partnership with Three Bone Theatre to bring ‘The Children’ to Charlotte\, March 11th – 26th! This groundbreaking play from Lucy Kirkwood’ explores themes of sacrifice\, environmental justice\, and what we owe to each other. \nGet your tickets at https://www.threebonetheatre.com/the-children.
URL:https://cleanairenc.org/event/the-children-production/
LOCATION:The Arts Factory\, 1545 W Trade Street\, Charlotte\, 28216
CATEGORIES:Past
ATTACH;FMTTYPE=image/png:https://cleanairenc.org/wp-content/uploads/2022/02/The-Children-FB-Cover.png
END:VEVENT
END:VCALENDAR