BEGIN:VCALENDAR
VERSION:2.0
PRODID:-//CleanAIRE NC - ECPv6.15.20//NONSGML v1.0//EN
CALSCALE:GREGORIAN
METHOD:PUBLISH
X-WR-CALNAME:CleanAIRE NC
X-ORIGINAL-URL:https://cleanairenc.org
X-WR-CALDESC:Events for CleanAIRE NC
REFRESH-INTERVAL;VALUE=DURATION:PT1H
X-Robots-Tag:noindex
X-PUBLISHED-TTL:PT1H
BEGIN:VTIMEZONE
TZID:UTC
BEGIN:STANDARD
TZOFFSETFROM:+0000
TZOFFSETTO:+0000
TZNAME:UTC
DTSTART:20210101T000000
END:STANDARD
END:VTIMEZONE
BEGIN:VEVENT
DTSTART;TZID=UTC:20220406T173000
DTEND;TZID=UTC:20220406T183000
DTSTAMP:20260422T074529
CREATED:20220330T190927Z
LAST-MODIFIED:20220411T144759Z
UID:27680-1649266200-1649269800@cleanairenc.org
SUMMARY:Environmental Justice Student Town Hall with Richard Moore
DESCRIPTION:
URL:https://cleanairenc.salsalabs.org/ncbreathe2022_townhall/index.html#new_tab
LOCATION:Catawba College\, 2300 W Innes St\, Salisbury\, NC\, 28144\, United States
CATEGORIES:NC BREATHE,Past
ATTACH;FMTTYPE=image/png:https://cleanairenc.org/wp-content/uploads/2022/03/Richard-Moore-EJTownHall-crop.png
END:VEVENT
END:VCALENDAR