BEGIN:VCALENDAR
VERSION:2.0
PRODID:-//CleanAIRE NC - ECPv6.15.20//NONSGML v1.0//EN
CALSCALE:GREGORIAN
METHOD:PUBLISH
X-ORIGINAL-URL:https://cleanairenc.org
X-WR-CALDESC:Events for CleanAIRE NC
REFRESH-INTERVAL;VALUE=DURATION:PT1H
X-Robots-Tag:noindex
X-PUBLISHED-TTL:PT1H
BEGIN:VTIMEZONE
TZID:America/New_York
BEGIN:DAYLIGHT
TZOFFSETFROM:-0500
TZOFFSETTO:-0400
TZNAME:EDT
DTSTART:20210314T070000
END:DAYLIGHT
BEGIN:STANDARD
TZOFFSETFROM:-0400
TZOFFSETTO:-0500
TZNAME:EST
DTSTART:20211107T060000
END:STANDARD
BEGIN:DAYLIGHT
TZOFFSETFROM:-0500
TZOFFSETTO:-0400
TZNAME:EDT
DTSTART:20220313T070000
END:DAYLIGHT
BEGIN:STANDARD
TZOFFSETFROM:-0400
TZOFFSETTO:-0500
TZNAME:EST
DTSTART:20221106T060000
END:STANDARD
BEGIN:DAYLIGHT
TZOFFSETFROM:-0500
TZOFFSETTO:-0400
TZNAME:EDT
DTSTART:20230312T070000
END:DAYLIGHT
BEGIN:STANDARD
TZOFFSETFROM:-0400
TZOFFSETTO:-0500
TZNAME:EST
DTSTART:20231105T060000
END:STANDARD
END:VTIMEZONE
BEGIN:VEVENT
DTSTART;TZID=America/New_York:20220407T080000
DTEND;TZID=America/New_York:20220407T170000
DTSTAMP:20260422T074742
CREATED:20220112T151717Z
LAST-MODIFIED:20220411T144732Z
UID:26608-1649318400-1649350800@cleanairenc.org
SUMMARY:NC BREATHE 2022
DESCRIPTION:The NC BREATHE 2022 conference will be held on April 7\, 2022\, both virtually and in person at Catawba College in Salisbury\, North Carolina. The hybrid event will feature a series of panel discussions and distinguished keynote speakers focusing on climate\, health\, and equity. \nRegistration is now open!
URL:http://cleanairenc.org/cleanaire-events/nc-breathe-2022/
LOCATION:Catawba College\, 2300 W Innes St\, Salisbury\, NC\, 28144\, United States
CATEGORIES:NC BREATHE,Past
ATTACH;FMTTYPE=image/png:https://cleanairenc.org/wp-content/uploads/2022/01/NC_BREATHE_Logo_FINAL.png
END:VEVENT
END:VCALENDAR