BEGIN:VCALENDAR
VERSION:2.0
PRODID:-//CleanAIRE NC - ECPv6.15.20//NONSGML v1.0//EN
CALSCALE:GREGORIAN
METHOD:PUBLISH
X-WR-CALNAME:CleanAIRE NC
X-ORIGINAL-URL:https://cleanairenc.org
X-WR-CALDESC:Events for CleanAIRE NC
REFRESH-INTERVAL;VALUE=DURATION:PT1H
X-Robots-Tag:noindex
X-PUBLISHED-TTL:PT1H
BEGIN:VTIMEZONE
TZID:America/Halifax
BEGIN:DAYLIGHT
TZOFFSETFROM:-0400
TZOFFSETTO:-0300
TZNAME:ADT
DTSTART:20210314T060000
END:DAYLIGHT
BEGIN:STANDARD
TZOFFSETFROM:-0300
TZOFFSETTO:-0400
TZNAME:AST
DTSTART:20211107T050000
END:STANDARD
BEGIN:DAYLIGHT
TZOFFSETFROM:-0400
TZOFFSETTO:-0300
TZNAME:ADT
DTSTART:20220313T060000
END:DAYLIGHT
BEGIN:STANDARD
TZOFFSETFROM:-0300
TZOFFSETTO:-0400
TZNAME:AST
DTSTART:20221106T050000
END:STANDARD
BEGIN:DAYLIGHT
TZOFFSETFROM:-0400
TZOFFSETTO:-0300
TZNAME:ADT
DTSTART:20230312T060000
END:DAYLIGHT
BEGIN:STANDARD
TZOFFSETFROM:-0300
TZOFFSETTO:-0400
TZNAME:AST
DTSTART:20231105T050000
END:STANDARD
END:VTIMEZONE
BEGIN:VEVENT
DTSTART;TZID=America/Halifax:20220421T000000
DTEND;TZID=America/Halifax:20220423T000000
DTSTAMP:20260422T074618
CREATED:20220419T171659Z
LAST-MODIFIED:20220425T183636Z
UID:27983-1650499200-1650672000@cleanairenc.org
SUMMARY:Sol Summit 2022: An Immersive Hybrid Experience
DESCRIPTION:Sol Summit brings together organizers\, community members\, and elected officials in a way that leads to collaboration on solutions to some of our communities’ most pressing environmental issues. Breakout sessions\, workshops\, and panels are curated to encourage dialogue\, innovation\, and creativity. Speakers and facilitators will range from frontline community activists to elected officials. \nClick here to register.
URL:https://cleanairenc.org/event/sol-summit-2022-an-immersive-hybrid-experience/
LOCATION:Hybrid/Virtual
CATEGORIES:Past
ATTACH;FMTTYPE=image/jpeg:https://cleanairenc.org/wp-content/uploads/2022/04/Sol-Summit-2022.jpeg
END:VEVENT
END:VCALENDAR