BEGIN:VCALENDAR
VERSION:2.0
PRODID:-//CleanAIRE NC - ECPv6.15.20//NONSGML v1.0//EN
CALSCALE:GREGORIAN
METHOD:PUBLISH
X-WR-CALNAME:CleanAIRE NC
X-ORIGINAL-URL:https://cleanairenc.org
X-WR-CALDESC:Events for CleanAIRE NC
REFRESH-INTERVAL;VALUE=DURATION:PT1H
X-Robots-Tag:noindex
X-PUBLISHED-TTL:PT1H
BEGIN:VTIMEZONE
TZID:UTC
BEGIN:STANDARD
TZOFFSETFROM:+0000
TZOFFSETTO:+0000
TZNAME:UTC
DTSTART:20210101T000000
END:STANDARD
END:VTIMEZONE
BEGIN:VEVENT
DTSTART;TZID=UTC:20220423T100000
DTEND;TZID=UTC:20220423T150000
DTSTAMP:20260422T074623
CREATED:20220406T203051Z
LAST-MODIFIED:20220425T183548Z
UID:27724-1650708000-1650726000@cleanairenc.org
SUMMARY:Charlotte Earth Day 2022
DESCRIPTION:
URL:https://charlotteearthday.com/#new_tab
LOCATION:First Ward Park\, 301 E 7th Street\, Charlotte\, NC\, 28202\, United States
CATEGORIES:Past
ATTACH;FMTTYPE=image/png:https://cleanairenc.org/wp-content/uploads/2022/04/earthday.png
END:VEVENT
BEGIN:VEVENT
DTSTART;TZID=UTC:20220423T100000
DTEND;TZID=UTC:20220423T160000
DTSTAMP:20260422T074623
CREATED:20220406T203542Z
LAST-MODIFIED:20220425T183504Z
UID:27729-1650708000-1650729600@cleanairenc.org
SUMMARY:Piedmont Earth Day Fair
DESCRIPTION:Join Piedmont Environmental Alliance for a celebration of community and the planet – the 2022 Piedmont Earth Day Fair. Enjoy great food and music\, activities for adults and kids\, and wonderful earth-friendly exhibitors. This event is FREE\, including free parking.
URL:https://cleanairenc.org/event/piedmont-earth-day-fair/
LOCATION:Winston-Salem Fairgrounds\, 569 Fairgrounds Blvd\, Winston Salem\, NC\, 27105\, United States
CATEGORIES:Past
ATTACH;FMTTYPE=image/jpeg:https://cleanairenc.org/wp-content/uploads/2022/04/Piedmont-Earth-Day.jpeg
END:VEVENT
END:VCALENDAR