BEGIN:VCALENDAR
VERSION:2.0
PRODID:-//CleanAIRE NC - ECPv6.15.20//NONSGML v1.0//EN
CALSCALE:GREGORIAN
METHOD:PUBLISH
X-ORIGINAL-URL:https://cleanairenc.org
X-WR-CALDESC:Events for CleanAIRE NC
REFRESH-INTERVAL;VALUE=DURATION:PT1H
X-Robots-Tag:noindex
X-PUBLISHED-TTL:PT1H
BEGIN:VTIMEZONE
TZID:America/Halifax
BEGIN:DAYLIGHT
TZOFFSETFROM:-0400
TZOFFSETTO:-0300
TZNAME:ADT
DTSTART:20210314T060000
END:DAYLIGHT
BEGIN:STANDARD
TZOFFSETFROM:-0300
TZOFFSETTO:-0400
TZNAME:AST
DTSTART:20211107T050000
END:STANDARD
BEGIN:DAYLIGHT
TZOFFSETFROM:-0400
TZOFFSETTO:-0300
TZNAME:ADT
DTSTART:20220313T060000
END:DAYLIGHT
BEGIN:STANDARD
TZOFFSETFROM:-0300
TZOFFSETTO:-0400
TZNAME:AST
DTSTART:20221106T050000
END:STANDARD
BEGIN:DAYLIGHT
TZOFFSETFROM:-0400
TZOFFSETTO:-0300
TZNAME:ADT
DTSTART:20230312T060000
END:DAYLIGHT
BEGIN:STANDARD
TZOFFSETFROM:-0300
TZOFFSETTO:-0400
TZNAME:AST
DTSTART:20231105T050000
END:STANDARD
END:VTIMEZONE
BEGIN:VEVENT
DTSTART;TZID=America/Halifax:20220616T180000
DTEND;TZID=America/Halifax:20220616T190000
DTSTAMP:20260422T042126
CREATED:20220602T203651Z
LAST-MODIFIED:20220617T192027Z
UID:28522-1655402400-1655406000@cleanairenc.org
SUMMARY:Citizen Science: Ask Me Anything
DESCRIPTION:Please join us on June 16th for an “Ask Me Anything” Citizen Science Zoom call to share your insights into the program\, ask our Citizen Science Manager\, Denise Bruce\, any questions about the AirKeeper network\, and help us build a program that works for you. AirKeepers Ed Barrows\, Gordon Miller\, and Bob Thomason will co-host the meeting with Denise to share their personal AirKeeper experiences.
URL:https://cleanairenc.salsalabs.org/citsciaskmeanything/index.html
LOCATION:Virtual
CATEGORIES:Past
ATTACH;FMTTYPE=image/jpeg:https://cleanairenc.org/wp-content/uploads/2022/06/CitSci-AMA-event-cal-scaled.jpg
END:VEVENT
END:VCALENDAR