BEGIN:VCALENDAR
VERSION:2.0
PRODID:-//CleanAIRE NC - ECPv6.15.20//NONSGML v1.0//EN
CALSCALE:GREGORIAN
METHOD:PUBLISH
X-ORIGINAL-URL:https://cleanairenc.org
X-WR-CALDESC:Events for CleanAIRE NC
REFRESH-INTERVAL;VALUE=DURATION:PT1H
X-Robots-Tag:noindex
X-PUBLISHED-TTL:PT1H
BEGIN:VTIMEZONE
TZID:America/Halifax
BEGIN:DAYLIGHT
TZOFFSETFROM:-0400
TZOFFSETTO:-0300
TZNAME:ADT
DTSTART:20210314T060000
END:DAYLIGHT
BEGIN:STANDARD
TZOFFSETFROM:-0300
TZOFFSETTO:-0400
TZNAME:AST
DTSTART:20211107T050000
END:STANDARD
BEGIN:DAYLIGHT
TZOFFSETFROM:-0400
TZOFFSETTO:-0300
TZNAME:ADT
DTSTART:20220313T060000
END:DAYLIGHT
BEGIN:STANDARD
TZOFFSETFROM:-0300
TZOFFSETTO:-0400
TZNAME:AST
DTSTART:20221106T050000
END:STANDARD
BEGIN:DAYLIGHT
TZOFFSETFROM:-0400
TZOFFSETTO:-0300
TZNAME:ADT
DTSTART:20230312T060000
END:DAYLIGHT
BEGIN:STANDARD
TZOFFSETFROM:-0300
TZOFFSETTO:-0400
TZNAME:AST
DTSTART:20231105T050000
END:STANDARD
END:VTIMEZONE
BEGIN:VEVENT
DTSTART;TZID=America/Halifax:20220628T140000
DTEND;TZID=America/Halifax:20220630T170000
DTSTAMP:20260422T022456
CREATED:20220609T153033Z
LAST-MODIFIED:20220705T160752Z
UID:28632-1656424800-1656608400@cleanairenc.org
SUMMARY:Electrification 2022: Building a Net-Zero Future for All
DESCRIPTION:Join EPRI for this in‑person event — featuring immersive pre‑conference workshops\, compelling and insightful agenda sessions\, a comprehensive exposition\, and multiple networking functions. The focus of the event will be how we can accelerate progress toward a low-carbon power sector and net-zero economy with targeted\, equitable electrification solutions. \nLearn more and register at https://www.electrification2022.com/.
URL:https://cleanairenc.org/event/electrification-2022-building-a-net-zero-future-for-all/
LOCATION:Charlotte Convention Center\, 501 S College St\, Charlotte\, NC\, 28202\, United States
CATEGORIES:Past
ATTACH;FMTTYPE=image/png:https://cleanairenc.org/wp-content/uploads/2022/06/Electrification-2022.png
END:VEVENT
END:VCALENDAR