BEGIN:VCALENDAR
VERSION:2.0
PRODID:-//CleanAIRE NC - ECPv6.15.20//NONSGML v1.0//EN
CALSCALE:GREGORIAN
METHOD:PUBLISH
X-WR-CALNAME:CleanAIRE NC
X-ORIGINAL-URL:https://cleanairenc.org
X-WR-CALDESC:Events for CleanAIRE NC
REFRESH-INTERVAL;VALUE=DURATION:PT1H
X-Robots-Tag:noindex
X-PUBLISHED-TTL:PT1H
BEGIN:VTIMEZONE
TZID:America/New_York
BEGIN:DAYLIGHT
TZOFFSETFROM:-0500
TZOFFSETTO:-0400
TZNAME:EDT
DTSTART:20210314T070000
END:DAYLIGHT
BEGIN:STANDARD
TZOFFSETFROM:-0400
TZOFFSETTO:-0500
TZNAME:EST
DTSTART:20211107T060000
END:STANDARD
BEGIN:DAYLIGHT
TZOFFSETFROM:-0500
TZOFFSETTO:-0400
TZNAME:EDT
DTSTART:20220313T070000
END:DAYLIGHT
BEGIN:STANDARD
TZOFFSETFROM:-0400
TZOFFSETTO:-0500
TZNAME:EST
DTSTART:20221106T060000
END:STANDARD
BEGIN:DAYLIGHT
TZOFFSETFROM:-0500
TZOFFSETTO:-0400
TZNAME:EDT
DTSTART:20230312T070000
END:DAYLIGHT
BEGIN:STANDARD
TZOFFSETFROM:-0400
TZOFFSETTO:-0500
TZNAME:EST
DTSTART:20231105T060000
END:STANDARD
END:VTIMEZONE
BEGIN:VEVENT
DTSTART;TZID=America/New_York:20220719T093000
DTEND;TZID=America/New_York:20220719T160000
DTSTAMP:20260422T022458
CREATED:20220714T150937Z
LAST-MODIFIED:20220720T221032Z
UID:28970-1658223000-1658246400@cleanairenc.org
SUMMARY:North Carolina Offshore Wind and Wildlife Solutions Summit
DESCRIPTION:This summit brings together leading resource experts from around the country to better understand solutions and best practices that will guide regulators\, wind developers\, and other stakeholders to a shared pathway for responsible offshore wind development. \nClick here to learn more and register.
URL:https://cleanairenc.org/event/north-carolina-offshore-wind-and-wildlife-solutions-summit/
LOCATION:The Terraces On Sir Tyler\, 1826 Sir Tyler Dr\, Wilmington\, NC\, 28405\, United States
CATEGORIES:Past
ATTACH;FMTTYPE=image/jpeg:https://cleanairenc.org/wp-content/uploads/2022/07/Offshore-Wind_bigger.jpg
END:VEVENT
END:VCALENDAR