BEGIN:VCALENDAR
VERSION:2.0
PRODID:-//CleanAIRE NC - ECPv6.15.20//NONSGML v1.0//EN
CALSCALE:GREGORIAN
METHOD:PUBLISH
X-ORIGINAL-URL:https://cleanairenc.org
X-WR-CALDESC:Events for CleanAIRE NC
REFRESH-INTERVAL;VALUE=DURATION:PT1H
X-Robots-Tag:noindex
X-PUBLISHED-TTL:PT1H
BEGIN:VTIMEZONE
TZID:America/New_York
BEGIN:DAYLIGHT
TZOFFSETFROM:-0500
TZOFFSETTO:-0400
TZNAME:EDT
DTSTART:20210314T070000
END:DAYLIGHT
BEGIN:STANDARD
TZOFFSETFROM:-0400
TZOFFSETTO:-0500
TZNAME:EST
DTSTART:20211107T060000
END:STANDARD
BEGIN:DAYLIGHT
TZOFFSETFROM:-0500
TZOFFSETTO:-0400
TZNAME:EDT
DTSTART:20220313T070000
END:DAYLIGHT
BEGIN:STANDARD
TZOFFSETFROM:-0400
TZOFFSETTO:-0500
TZNAME:EST
DTSTART:20221106T060000
END:STANDARD
BEGIN:DAYLIGHT
TZOFFSETFROM:-0500
TZOFFSETTO:-0400
TZNAME:EDT
DTSTART:20230312T070000
END:DAYLIGHT
BEGIN:STANDARD
TZOFFSETFROM:-0400
TZOFFSETTO:-0500
TZNAME:EST
DTSTART:20231105T060000
END:STANDARD
END:VTIMEZONE
BEGIN:VEVENT
DTSTART;TZID=America/New_York:20221025T090000
DTEND;TZID=America/New_York:20221027T170000
DTSTAMP:20260421T202448
CREATED:20221020T161603Z
LAST-MODIFIED:20221107T170959Z
UID:29944-1666688400-1666890000@cleanairenc.org
SUMMARY:Making Energy Work: 2022 Conference
DESCRIPTION:WHERE ENERGY POLICY GETS TO WORK. \nJoin stakeholders from across the country to engage in thought-provoking discussion\, networking opportunities\, and thought leadership designed to shape policies that advance an accessible and affordable clean energy economy for all. This year’s Making Energy Work conference will be the nexus of policies leading into the next stage of our clean energy economy from landscape-altering topics like regulatory reform to PURPA and policies enhancing access to innovative new technologies. Hosted by NC Sustainable Energy Association\, this two-and-a-half-day conference will feature well-known keynote speakers\, engaging breakout sessions\, and numerous opportunities to network with colleagues\, partners\, customers\, policymakers\, and industry-leading influencers. \nLearn more and register here.
URL:https://cleanairenc.org/event/making-energy-work-2022-conference/
LOCATION:Hilton Raleigh North Hills\, 3415 Wake Forest Road\, Raleigh\, NC\, 27609\, United States
CATEGORIES:Past
ATTACH;FMTTYPE=image/jpeg:https://cleanairenc.org/wp-content/uploads/2022/10/Making-Energy-Work-2022.jpeg
END:VEVENT
END:VCALENDAR