BEGIN:VCALENDAR
VERSION:2.0
PRODID:-//CleanAIRE NC - ECPv6.15.20//NONSGML v1.0//EN
CALSCALE:GREGORIAN
METHOD:PUBLISH
X-WR-CALNAME:CleanAIRE NC
X-ORIGINAL-URL:https://cleanairenc.org
X-WR-CALDESC:Events for CleanAIRE NC
REFRESH-INTERVAL;VALUE=DURATION:PT1H
X-Robots-Tag:noindex
X-PUBLISHED-TTL:PT1H
BEGIN:VTIMEZONE
TZID:America/New_York
BEGIN:DAYLIGHT
TZOFFSETFROM:-0500
TZOFFSETTO:-0400
TZNAME:EDT
DTSTART:20210314T070000
END:DAYLIGHT
BEGIN:STANDARD
TZOFFSETFROM:-0400
TZOFFSETTO:-0500
TZNAME:EST
DTSTART:20211107T060000
END:STANDARD
BEGIN:DAYLIGHT
TZOFFSETFROM:-0500
TZOFFSETTO:-0400
TZNAME:EDT
DTSTART:20220313T070000
END:DAYLIGHT
BEGIN:STANDARD
TZOFFSETFROM:-0400
TZOFFSETTO:-0500
TZNAME:EST
DTSTART:20221106T060000
END:STANDARD
BEGIN:DAYLIGHT
TZOFFSETFROM:-0500
TZOFFSETTO:-0400
TZNAME:EDT
DTSTART:20230312T070000
END:DAYLIGHT
BEGIN:STANDARD
TZOFFSETFROM:-0400
TZOFFSETTO:-0500
TZNAME:EST
DTSTART:20231105T060000
END:STANDARD
END:VTIMEZONE
BEGIN:VEVENT
DTSTART;TZID=America/New_York:20221027T130000
DTEND;TZID=America/New_York:20221029T170000
DTSTAMP:20260421T202411
CREATED:20220726T142631Z
LAST-MODIFIED:20221107T170734Z
UID:29173-1666875600-1667062800@cleanairenc.org
SUMMARY:2022 NC BikeWalk Transportation Summit
DESCRIPTION:The 2022 NC BikeWalk Transportation Summit will bring together hundreds of stakeholders interested in advancing safe roads and healthier\, more equitable communities for all road users in North Carolina. \nSessions are designed to provide information and foster collaboration. Summit participants will hear from national\, statewide\, and local leaders on how to make transportation safer and more equitable for all users\, especially pedestrians and people who use bikes. \nLearn more and register here.
URL:https://cleanairenc.org/event/2022-nc-bikewalk-transportation-summit/
LOCATION:East Carolina Heart Institute\, 115 Heart Drive\, Greenville\, NC\, 27834\, United States
CATEGORIES:Past
ATTACH;FMTTYPE=image/jpeg:https://cleanairenc.org/wp-content/uploads/2022/07/2022BWNCSummitcoveridea3-crop.jpeg
END:VEVENT
END:VCALENDAR