BEGIN:VCALENDAR
VERSION:2.0
PRODID:-//CleanAIRE NC - ECPv6.15.20//NONSGML v1.0//EN
CALSCALE:GREGORIAN
METHOD:PUBLISH
X-WR-CALNAME:CleanAIRE NC
X-ORIGINAL-URL:https://cleanairenc.org
X-WR-CALDESC:Events for CleanAIRE NC
REFRESH-INTERVAL;VALUE=DURATION:PT1H
X-Robots-Tag:noindex
X-PUBLISHED-TTL:PT1H
BEGIN:VTIMEZONE
TZID:America/New_York
BEGIN:DAYLIGHT
TZOFFSETFROM:-0500
TZOFFSETTO:-0400
TZNAME:EDT
DTSTART:20210314T070000
END:DAYLIGHT
BEGIN:STANDARD
TZOFFSETFROM:-0400
TZOFFSETTO:-0500
TZNAME:EST
DTSTART:20211107T060000
END:STANDARD
BEGIN:DAYLIGHT
TZOFFSETFROM:-0500
TZOFFSETTO:-0400
TZNAME:EDT
DTSTART:20220313T070000
END:DAYLIGHT
BEGIN:STANDARD
TZOFFSETFROM:-0400
TZOFFSETTO:-0500
TZNAME:EST
DTSTART:20221106T060000
END:STANDARD
BEGIN:DAYLIGHT
TZOFFSETFROM:-0500
TZOFFSETTO:-0400
TZNAME:EDT
DTSTART:20230312T070000
END:DAYLIGHT
BEGIN:STANDARD
TZOFFSETFROM:-0400
TZOFFSETTO:-0500
TZNAME:EST
DTSTART:20231105T060000
END:STANDARD
END:VTIMEZONE
BEGIN:VEVENT
DTSTART;TZID=America/New_York:20221030T120000
DTEND;TZID=America/New_York:20221030T170000
DTSTAMP:20260421T202411
CREATED:20221020T163945Z
LAST-MODIFIED:20221107T172204Z
UID:29953-1667131200-1667149200@cleanairenc.org
SUMMARY:Biketoberfest 2022
DESCRIPTION:This exciting event will take over Charlotte the day before Halloween. Sustain Charlotte‘s annual fundraising event sends participants on a scavenger hunt on two wheels equipped with a passport to support local businesses\, visit new destinations\, see the infrastructure available to support safer riding\, and collect stamps in their passports along the way. At the end of the event\, there is an after-party at Triple C Brewing\, where participants can exchange those stamps for raffle tickets to win prizes. \nLearn more and sign up here.
URL:https://cleanairenc.org/event/biketoberfest-2022/
LOCATION:Triple C Brewing Company\, 2900 Griffith St\, Charlotte\, NC\, 28203\, United States
CATEGORIES:Past
ATTACH;FMTTYPE=image/png:https://cleanairenc.org/wp-content/uploads/2022/10/Biketoberfest-2022.png
END:VEVENT
END:VCALENDAR