BEGIN:VCALENDAR
VERSION:2.0
PRODID:-//CleanAIRE NC - ECPv6.15.20//NONSGML v1.0//EN
CALSCALE:GREGORIAN
METHOD:PUBLISH
X-WR-CALNAME:CleanAIRE NC
X-ORIGINAL-URL:https://cleanairenc.org
X-WR-CALDESC:Events for CleanAIRE NC
REFRESH-INTERVAL;VALUE=DURATION:PT1H
X-Robots-Tag:noindex
X-PUBLISHED-TTL:PT1H
BEGIN:VTIMEZONE
TZID:America/New_York
BEGIN:DAYLIGHT
TZOFFSETFROM:-0500
TZOFFSETTO:-0400
TZNAME:EDT
DTSTART:20210314T070000
END:DAYLIGHT
BEGIN:STANDARD
TZOFFSETFROM:-0400
TZOFFSETTO:-0500
TZNAME:EST
DTSTART:20211107T060000
END:STANDARD
BEGIN:DAYLIGHT
TZOFFSETFROM:-0500
TZOFFSETTO:-0400
TZNAME:EDT
DTSTART:20220313T070000
END:DAYLIGHT
BEGIN:STANDARD
TZOFFSETFROM:-0400
TZOFFSETTO:-0500
TZNAME:EST
DTSTART:20221106T060000
END:STANDARD
BEGIN:DAYLIGHT
TZOFFSETFROM:-0500
TZOFFSETTO:-0400
TZNAME:EDT
DTSTART:20230312T070000
END:DAYLIGHT
BEGIN:STANDARD
TZOFFSETFROM:-0400
TZOFFSETTO:-0500
TZNAME:EST
DTSTART:20231105T060000
END:STANDARD
END:VTIMEZONE
BEGIN:VEVENT
DTSTART;TZID=America/New_York:20221115T140000
DTEND;TZID=America/New_York:20221115T160000
DTSTAMP:20260421T184752
CREATED:20221110T171007Z
LAST-MODIFIED:20221116T140503Z
UID:30029-1668520800-1668528000@cleanairenc.org
SUMMARY:Workshop: Practical Passive Solar Design Principles for NC Homes
DESCRIPTION:Hosted by Green Built Alliance\, this free online workshop goes over the main design principles\, with examples and best practices\, of passive solar design for energy-efficient homes in North Carolina climates. Participants will understand how design choices about the orientation\, shading\, lay out\, window sizes and locations\, use of thermal mass\, and use of high performance building envelope principles in a new home construction project can contribute to energy savings\, homeowner satisfaction\, and even earn rebates and incentives in North Carolina.\n\nLearn more here.
URL:https://cleanairenc.org/event/workshop-practical-passive-solar-design-principles-for-nc-homes/
LOCATION:Virtual
CATEGORIES:Past
ATTACH;FMTTYPE=image/jpeg:https://cleanairenc.org/wp-content/uploads/2022/11/Passive-Solar-Homes.jpeg
END:VEVENT
END:VCALENDAR