BEGIN:VCALENDAR
VERSION:2.0
PRODID:-//CleanAIRE NC - ECPv6.15.20//NONSGML v1.0//EN
CALSCALE:GREGORIAN
METHOD:PUBLISH
X-ORIGINAL-URL:https://cleanairenc.org
X-WR-CALDESC:Events for CleanAIRE NC
REFRESH-INTERVAL;VALUE=DURATION:PT1H
X-Robots-Tag:noindex
X-PUBLISHED-TTL:PT1H
BEGIN:VTIMEZONE
TZID:America/New_York
BEGIN:DAYLIGHT
TZOFFSETFROM:-0500
TZOFFSETTO:-0400
TZNAME:EDT
DTSTART:20220313T070000
END:DAYLIGHT
BEGIN:STANDARD
TZOFFSETFROM:-0400
TZOFFSETTO:-0500
TZNAME:EST
DTSTART:20221106T060000
END:STANDARD
BEGIN:DAYLIGHT
TZOFFSETFROM:-0500
TZOFFSETTO:-0400
TZNAME:EDT
DTSTART:20230312T070000
END:DAYLIGHT
BEGIN:STANDARD
TZOFFSETFROM:-0400
TZOFFSETTO:-0500
TZNAME:EST
DTSTART:20231105T060000
END:STANDARD
BEGIN:DAYLIGHT
TZOFFSETFROM:-0500
TZOFFSETTO:-0400
TZNAME:EDT
DTSTART:20240310T070000
END:DAYLIGHT
BEGIN:STANDARD
TZOFFSETFROM:-0400
TZOFFSETTO:-0500
TZNAME:EST
DTSTART:20241103T060000
END:STANDARD
END:VTIMEZONE
BEGIN:VEVENT
DTSTART;TZID=America/New_York:20230109T150000
DTEND;TZID=America/New_York:20230109T160000
DTSTAMP:20260421T162902
CREATED:20230105T211045Z
LAST-MODIFIED:20230110T163150Z
UID:30350-1673276400-1673280000@cleanairenc.org
SUMMARY:Advanced Clean Trucks Rule: Info Session
DESCRIPTION:Over the next few weeks state policymakers will hold a series of meetings to develop an Advanced Clean Trucks (ACT) rule that promotes clean\, electric trucks in North Carolina. And they want to hear from you. \nThe meetings will start Monday with a virtual Info Session\, hosted by the NC Dept. of Environmental Quality. Please attend to learn how we can shape the ACT and cut tailpipe emissions across NC’s highways and communities. \nLearn more and join online here. \nFour public hearings will follow the information session to allow community input on how NC should promote the shift to cleaner vehicles. All meetings are open for community participation: \n\nCharlotte Hearing | Friday\, January 13\, 9-11 am | Register here >>\nBurlington Hearing | Monday\, January 23\, 4-6 pm | Register here >>\nPembroke Hearing | Wednesday\, January 25\, 1-3 pm | Register here >>\nVirtual Hearing | Tuesday\, February 21\, 1-2:30 pm | Join here >>
URL:https://cleanairenc.org/event/advanced-clean-trucks-rule-info-session/
LOCATION:Virtual
CATEGORIES:Past
ATTACH;FMTTYPE=image/png:https://cleanairenc.org/wp-content/uploads/2023/01/initial-ACT-website-event-image_info-session.png
END:VEVENT
END:VCALENDAR