BEGIN:VCALENDAR
VERSION:2.0
PRODID:-//CleanAIRE NC - ECPv6.15.20//NONSGML v1.0//EN
CALSCALE:GREGORIAN
METHOD:PUBLISH
X-WR-CALNAME:CleanAIRE NC
X-ORIGINAL-URL:https://cleanairenc.org
X-WR-CALDESC:Events for CleanAIRE NC
REFRESH-INTERVAL;VALUE=DURATION:PT1H
X-Robots-Tag:noindex
X-PUBLISHED-TTL:PT1H
BEGIN:VTIMEZONE
TZID:America/New_York
BEGIN:DAYLIGHT
TZOFFSETFROM:-0500
TZOFFSETTO:-0400
TZNAME:EDT
DTSTART:20220313T070000
END:DAYLIGHT
BEGIN:STANDARD
TZOFFSETFROM:-0400
TZOFFSETTO:-0500
TZNAME:EST
DTSTART:20221106T060000
END:STANDARD
BEGIN:DAYLIGHT
TZOFFSETFROM:-0500
TZOFFSETTO:-0400
TZNAME:EDT
DTSTART:20230312T070000
END:DAYLIGHT
BEGIN:STANDARD
TZOFFSETFROM:-0400
TZOFFSETTO:-0500
TZNAME:EST
DTSTART:20231105T060000
END:STANDARD
BEGIN:DAYLIGHT
TZOFFSETFROM:-0500
TZOFFSETTO:-0400
TZNAME:EDT
DTSTART:20240310T070000
END:DAYLIGHT
BEGIN:STANDARD
TZOFFSETFROM:-0400
TZOFFSETTO:-0500
TZNAME:EST
DTSTART:20241103T060000
END:STANDARD
END:VTIMEZONE
BEGIN:VEVENT
DTSTART;TZID=America/New_York:20230113T090000
DTEND;TZID=America/New_York:20230113T110000
DTSTAMP:20260421T145434
CREATED:20230105T214014Z
LAST-MODIFIED:20230117T134522Z
UID:30354-1673600400-1673607600@cleanairenc.org
SUMMARY:Advanced Clean Trucks Rule: Public Hearing (Charlotte)
DESCRIPTION:State policymakers are gathering community input to develop an Advanced Clean Trucks (ACT) rule that promotes clean\, electric trucks in North Carolina. The NC Dept. of Environmental Quality will hold a public hearing and listening session in Charlotte on Friday\, January 13. Please attend to help shape the ACT and cut tailpipe emissions across NC’s highways and communities. \nRegistration is required — register here. \n  \n\nAdditional public hearings will take place in Burlington\, Pembroke\, and virtually. All meetings are open for community participation: \n\nBurlington Hearing | Monday\, January 23\, 4-6 pm | Register here >>\nPembroke Hearing | Wednesday\, January 25\, 1-3 pm | Register here >>\nVirtual Hearing | Tuesday\, February 21\, 1-2:30 pm | Join here >>\n\nDEQ will also host a virtual Info Session before the hearings begin to help communities prepare. You can join the January 9 Info Session here. \n 
URL:https://cleanairenc.org/event/advanced-clean-trucks-rule-public-hearing-clt/
LOCATION:Centralina Regional Council\, 10735 David Taylor Drive #250\, Charlotte\, NC\, 28262\, United States
CATEGORIES:Past
ATTACH;FMTTYPE=image/png:https://cleanairenc.org/wp-content/uploads/2023/01/initial-ACT-website-event-image_charlotte.png
END:VEVENT
END:VCALENDAR