BEGIN:VCALENDAR
VERSION:2.0
PRODID:-//CleanAIRE NC - ECPv6.15.20//NONSGML v1.0//EN
CALSCALE:GREGORIAN
METHOD:PUBLISH
X-WR-CALNAME:CleanAIRE NC
X-ORIGINAL-URL:https://cleanairenc.org
X-WR-CALDESC:Events for CleanAIRE NC
REFRESH-INTERVAL;VALUE=DURATION:PT1H
X-Robots-Tag:noindex
X-PUBLISHED-TTL:PT1H
BEGIN:VTIMEZONE
TZID:America/New_York
BEGIN:DAYLIGHT
TZOFFSETFROM:-0500
TZOFFSETTO:-0400
TZNAME:EDT
DTSTART:20220313T070000
END:DAYLIGHT
BEGIN:STANDARD
TZOFFSETFROM:-0400
TZOFFSETTO:-0500
TZNAME:EST
DTSTART:20221106T060000
END:STANDARD
BEGIN:DAYLIGHT
TZOFFSETFROM:-0500
TZOFFSETTO:-0400
TZNAME:EDT
DTSTART:20230312T070000
END:DAYLIGHT
BEGIN:STANDARD
TZOFFSETFROM:-0400
TZOFFSETTO:-0500
TZNAME:EST
DTSTART:20231105T060000
END:STANDARD
BEGIN:DAYLIGHT
TZOFFSETFROM:-0500
TZOFFSETTO:-0400
TZNAME:EDT
DTSTART:20240310T070000
END:DAYLIGHT
BEGIN:STANDARD
TZOFFSETFROM:-0400
TZOFFSETTO:-0500
TZNAME:EST
DTSTART:20241103T060000
END:STANDARD
END:VTIMEZONE
BEGIN:VEVENT
DTSTART;TZID=America/New_York:20230121T100000
DTEND;TZID=America/New_York:20230121T140000
DTSTAMP:20260421T145434
CREATED:20230111T165234Z
LAST-MODIFIED:20230124T180156Z
UID:30421-1674295200-1674309600@cleanairenc.org
SUMMARY:NCEJN Civic Engagement Series: Spidey Sens-r Workshop
DESCRIPTION:Did you know you can monitor air quality using spider webs? Metals in the air settle as dust onto webs\, allowing us to detect differences in air quality at the neighborhood level. Attend this free workshop to learn about innovative air quality tools communities can use to monitor their environment\, including the Spidey Sens-r Network!  \nAttendees will learn how to identify and collect webs\, log coordinates\, and send them to the lab where the type and amount of metals in the sample can be identified. Click here to learn more and to register for this amazing workshop.
URL:https://cleanairenc.org/event/ncejn-civic-engagement-series-spidey-sens-r-workshop/
LOCATION:C.M. Eppes Community and Recreation Center\, 400 Nash Street\, Greenville\, NC\, 27834\, United States
CATEGORIES:Past
ATTACH;FMTTYPE=image/png:https://cleanairenc.org/wp-content/uploads/2023/01/Spidey-Sens-r-workshop.png
END:VEVENT
END:VCALENDAR