BEGIN:VCALENDAR
VERSION:2.0
PRODID:-//CleanAIRE NC - ECPv6.15.20//NONSGML v1.0//EN
CALSCALE:GREGORIAN
METHOD:PUBLISH
X-WR-CALNAME:CleanAIRE NC
X-ORIGINAL-URL:https://cleanairenc.org
X-WR-CALDESC:Events for CleanAIRE NC
REFRESH-INTERVAL;VALUE=DURATION:PT1H
X-Robots-Tag:noindex
X-PUBLISHED-TTL:PT1H
BEGIN:VTIMEZONE
TZID:America/New_York
BEGIN:DAYLIGHT
TZOFFSETFROM:-0500
TZOFFSETTO:-0400
TZNAME:EDT
DTSTART:20220313T070000
END:DAYLIGHT
BEGIN:STANDARD
TZOFFSETFROM:-0400
TZOFFSETTO:-0500
TZNAME:EST
DTSTART:20221106T060000
END:STANDARD
BEGIN:DAYLIGHT
TZOFFSETFROM:-0500
TZOFFSETTO:-0400
TZNAME:EDT
DTSTART:20230312T070000
END:DAYLIGHT
BEGIN:STANDARD
TZOFFSETFROM:-0400
TZOFFSETTO:-0500
TZNAME:EST
DTSTART:20231105T060000
END:STANDARD
BEGIN:DAYLIGHT
TZOFFSETFROM:-0500
TZOFFSETTO:-0400
TZNAME:EDT
DTSTART:20240310T070000
END:DAYLIGHT
BEGIN:STANDARD
TZOFFSETFROM:-0400
TZOFFSETTO:-0500
TZNAME:EST
DTSTART:20241103T060000
END:STANDARD
END:VTIMEZONE
BEGIN:VEVENT
DTSTART;TZID=America/New_York:20230131T180000
DTEND;TZID=America/New_York:20230131T200000
DTSTAMP:20260421T124426
CREATED:20230126T153238Z
LAST-MODIFIED:20230203T111105Z
UID:30459-1675188000-1675195200@cleanairenc.org
SUMMARY:EPA Training on Proposed Clean Air Act Rule
DESCRIPTION:EPA to Host Virtual Training on Proposed Clean Air Act Rule\n \nEPA will host a training on January 31\, 2023 to provide an overview of the proposed rule to update the Agency’s regulations governing the timelines and other requirements for state plans to limit pollution from existing sources under section 111(d) of the Clean Air Act. It will also provide information on how to effectively engage in the regulatory process and an opportunity to ask clarifying questions. Although this training is open to the public\, it will include information tailored to specific groups: communities with environmental justice concerns\, tribal nations\, tribal environmental professionals\, and small business stakeholders. This virtual event is FREE and open to the public. The event will be held using Zoom\, and a toll-free call-in number will be available.\n \nDate:           Tuesday\, January 31\, 2023\nTime:          6:00PM – 8:00PM (Eastern time)\nRegister Here: https://usepa.zoomgov.com/meeting/register/vJItc-qrrj4pG2o5wylIh3ZMgga71ynw1KE\n \nTo read the proposed rule and an accompanying fact sheet\, please click HERE. EPA will take public comment on the proposed updates through Feb. 27\, 2023. \n \nBackground: On December 14\, 2022\, the EPA Administrator signed the proposed updates to the Agency’s regulations governing the timelines and other requirements for state plans to limit pollution from existing sources under section 111(d) of the Clean Air Act. EPA’s “Implementing Regulations” apply to states that must submit plans for existing sources of pollution covered by Emissions Guidelines and to eligible Tribal Nations that choose to develop their own plans. The proposed updates would revise several timing requirements for state plans\, including the allowed time for states to submit plans and for EPA to review them\, among others. The proposal also would provide states clear guidance on when they can apply a less-stringent standard to a facility or class of facilities. In addition\, it would require states and EPA to conduct meaningful engagement as part of state plan and federal plan development\, including with communities and Tribal Nations most affected by\, and vulnerable to\, the plans’ impacts.
URL:https://cleanairenc.org/event/epa-training-on-proposed-clean-air-act-rule/
LOCATION:Virtual
CATEGORIES:Past
ATTACH;FMTTYPE=image/jpeg:https://cleanairenc.org/wp-content/uploads/2023/01/events_web_epa_CAA.jpg
END:VEVENT
END:VCALENDAR