BEGIN:VCALENDAR
VERSION:2.0
PRODID:-//CleanAIRE NC - ECPv6.15.20//NONSGML v1.0//EN
CALSCALE:GREGORIAN
METHOD:PUBLISH
X-ORIGINAL-URL:https://cleanairenc.org
X-WR-CALDESC:Events for CleanAIRE NC
REFRESH-INTERVAL;VALUE=DURATION:PT1H
X-Robots-Tag:noindex
X-PUBLISHED-TTL:PT1H
BEGIN:VTIMEZONE
TZID:America/New_York
BEGIN:DAYLIGHT
TZOFFSETFROM:-0500
TZOFFSETTO:-0400
TZNAME:EDT
DTSTART:20220313T070000
END:DAYLIGHT
BEGIN:STANDARD
TZOFFSETFROM:-0400
TZOFFSETTO:-0500
TZNAME:EST
DTSTART:20221106T060000
END:STANDARD
BEGIN:DAYLIGHT
TZOFFSETFROM:-0500
TZOFFSETTO:-0400
TZNAME:EDT
DTSTART:20230312T070000
END:DAYLIGHT
BEGIN:STANDARD
TZOFFSETFROM:-0400
TZOFFSETTO:-0500
TZNAME:EST
DTSTART:20231105T060000
END:STANDARD
BEGIN:DAYLIGHT
TZOFFSETFROM:-0500
TZOFFSETTO:-0400
TZNAME:EDT
DTSTART:20240310T070000
END:DAYLIGHT
BEGIN:STANDARD
TZOFFSETFROM:-0400
TZOFFSETTO:-0500
TZNAME:EST
DTSTART:20241103T060000
END:STANDARD
END:VTIMEZONE
BEGIN:VEVENT
DTSTART;TZID=America/New_York:20230711T150000
DTEND;TZID=America/New_York:20230711T163000
DTSTAMP:20260421T030217
CREATED:20230629T202542Z
LAST-MODIFIED:20230712T143645Z
UID:32002-1689087600-1689093000@cleanairenc.org
SUMMARY:Webinar: Available Tools to Advance Our Understanding of Cumulative Impacts
DESCRIPTION:The U.S. Environmental Protection Agency is upgrading its tools and techniques to measure community assets and vulnerabilities related to chemical stressors (air\, land\, and water) and non-chemical stressors (health and weather). Join the Available Tools to Advance Our Understanding of Cumulative Impacts webinar on July 11 to see three tools designed to improve our understanding of these determinants and their impact on disadvantaged communities. \nRegister here >>
URL:https://cleanairenc.org/event/webinar-available-tools-to-advance-our-understanding-of-cumulative-impacts/
LOCATION:Virtual
CATEGORIES:Past
ATTACH;FMTTYPE=image/png:https://cleanairenc.org/wp-content/uploads/2023/06/EPA-webinar.png
END:VEVENT
END:VCALENDAR