BEGIN:VCALENDAR
VERSION:2.0
PRODID:-//CleanAIRE NC - ECPv6.15.20//NONSGML v1.0//EN
CALSCALE:GREGORIAN
METHOD:PUBLISH
X-ORIGINAL-URL:https://cleanairenc.org
X-WR-CALDESC:Events for CleanAIRE NC
REFRESH-INTERVAL;VALUE=DURATION:PT1H
X-Robots-Tag:noindex
X-PUBLISHED-TTL:PT1H
BEGIN:VTIMEZONE
TZID:America/New_York
BEGIN:DAYLIGHT
TZOFFSETFROM:-0500
TZOFFSETTO:-0400
TZNAME:EDT
DTSTART:20220313T070000
END:DAYLIGHT
BEGIN:STANDARD
TZOFFSETFROM:-0400
TZOFFSETTO:-0500
TZNAME:EST
DTSTART:20221106T060000
END:STANDARD
BEGIN:DAYLIGHT
TZOFFSETFROM:-0500
TZOFFSETTO:-0400
TZNAME:EDT
DTSTART:20230312T070000
END:DAYLIGHT
BEGIN:STANDARD
TZOFFSETFROM:-0400
TZOFFSETTO:-0500
TZNAME:EST
DTSTART:20231105T060000
END:STANDARD
BEGIN:DAYLIGHT
TZOFFSETFROM:-0500
TZOFFSETTO:-0400
TZNAME:EDT
DTSTART:20240310T070000
END:DAYLIGHT
BEGIN:STANDARD
TZOFFSETFROM:-0400
TZOFFSETTO:-0500
TZNAME:EST
DTSTART:20241103T060000
END:STANDARD
END:VTIMEZONE
BEGIN:VEVENT
DTSTART;VALUE=DATE:20230717
DTEND;VALUE=DATE:20230722
DTSTAMP:20260421T030225
CREATED:20230629T203404Z
LAST-MODIFIED:20230721T221555Z
UID:32006-1689552000-1689983999@cleanairenc.org
SUMMARY:Tracking Awareness Week 2023: Data for Action
DESCRIPTION:The CDC’s National Environmental Public Health Tracking Program is hosting the eighth annual Tracking Awareness Week with the theme “Data for Action.” Each day of Tracking Awareness Week will highlight a different topic: \n\nMonday: Innovation\nTuesday: Health equity\nWednesday: Data in action\nThursday: Collaboration\nFriday: Data modernization\n\nThis is an opportunity to shine a light on important environmental health issues and showcase how the Tracking Program performs. Find out how you can get involved.
URL:https://cleanairenc.org/event/tracking-awareness-week-2023-data-for-action/
LOCATION:Nationwide\, United States
CATEGORIES:Past
ATTACH;FMTTYPE=image/png:https://cleanairenc.org/wp-content/uploads/2023/06/Tracking-Awareness-Week.png
END:VEVENT
END:VCALENDAR