BEGIN:VCALENDAR
VERSION:2.0
PRODID:-//CleanAIRE NC - ECPv6.15.20//NONSGML v1.0//EN
CALSCALE:GREGORIAN
METHOD:PUBLISH
X-WR-CALNAME:CleanAIRE NC
X-ORIGINAL-URL:https://cleanairenc.org
X-WR-CALDESC:Events for CleanAIRE NC
REFRESH-INTERVAL;VALUE=DURATION:PT1H
X-Robots-Tag:noindex
X-PUBLISHED-TTL:PT1H
BEGIN:VTIMEZONE
TZID:America/New_York
BEGIN:DAYLIGHT
TZOFFSETFROM:-0500
TZOFFSETTO:-0400
TZNAME:EDT
DTSTART:20220313T070000
END:DAYLIGHT
BEGIN:STANDARD
TZOFFSETFROM:-0400
TZOFFSETTO:-0500
TZNAME:EST
DTSTART:20221106T060000
END:STANDARD
BEGIN:DAYLIGHT
TZOFFSETFROM:-0500
TZOFFSETTO:-0400
TZNAME:EDT
DTSTART:20230312T070000
END:DAYLIGHT
BEGIN:STANDARD
TZOFFSETFROM:-0400
TZOFFSETTO:-0500
TZNAME:EST
DTSTART:20231105T060000
END:STANDARD
BEGIN:DAYLIGHT
TZOFFSETFROM:-0500
TZOFFSETTO:-0400
TZNAME:EDT
DTSTART:20240310T070000
END:DAYLIGHT
BEGIN:STANDARD
TZOFFSETFROM:-0400
TZOFFSETTO:-0500
TZNAME:EST
DTSTART:20241103T060000
END:STANDARD
END:VTIMEZONE
BEGIN:VEVENT
DTSTART;TZID=America/New_York:20230802T130000
DTEND;TZID=America/New_York:20230802T143000
DTSTAMP:20260421T011416
CREATED:20230727T201228Z
LAST-MODIFIED:20230803T135607Z
UID:32191-1690981200-1690986600@cleanairenc.org
SUMMARY:Health Benefits vs. Disbenefits from Indoor Air Cleaners
DESCRIPTION:The COVID-19 pandemic has led to a large increase in the commercialization of air cleaners. Air purifiers minimize dust\, dander\, and common allergens but can still generate ozone and particulate matter. \nJoin the EPA’s IAQ Science Webinar to learn the benefits\, dangers\, and differences in commercial indoor air purification systems. The presentation will examine several types of air cleaners and compare the estimated reduction in mortality due to reduced airborne disease transmission (COVID-19 and flu) with the estimated increase in mortality due to degradation of indoor air quality. Several sensitivity studies will be presented for a range of situations. \nLearn more and register.
URL:https://cleanairenc.org/event/health-benefits-vs-disbenefits-from-indoor-air-cleaners/
LOCATION:Virtual
CATEGORIES:Past
ATTACH;FMTTYPE=image/png:https://cleanairenc.org/wp-content/uploads/2023/06/EPA-webinar.png
END:VEVENT
END:VCALENDAR