BEGIN:VCALENDAR
VERSION:2.0
PRODID:-//CleanAIRE NC - ECPv6.15.20//NONSGML v1.0//EN
CALSCALE:GREGORIAN
METHOD:PUBLISH
X-ORIGINAL-URL:https://cleanairenc.org
X-WR-CALDESC:Events for CleanAIRE NC
REFRESH-INTERVAL;VALUE=DURATION:PT1H
X-Robots-Tag:noindex
X-PUBLISHED-TTL:PT1H
BEGIN:VTIMEZONE
TZID:America/New_York
BEGIN:DAYLIGHT
TZOFFSETFROM:-0500
TZOFFSETTO:-0400
TZNAME:EDT
DTSTART:20220313T070000
END:DAYLIGHT
BEGIN:STANDARD
TZOFFSETFROM:-0400
TZOFFSETTO:-0500
TZNAME:EST
DTSTART:20221106T060000
END:STANDARD
BEGIN:DAYLIGHT
TZOFFSETFROM:-0500
TZOFFSETTO:-0400
TZNAME:EDT
DTSTART:20230312T070000
END:DAYLIGHT
BEGIN:STANDARD
TZOFFSETFROM:-0400
TZOFFSETTO:-0500
TZNAME:EST
DTSTART:20231105T060000
END:STANDARD
BEGIN:DAYLIGHT
TZOFFSETFROM:-0500
TZOFFSETTO:-0400
TZNAME:EDT
DTSTART:20240310T070000
END:DAYLIGHT
BEGIN:STANDARD
TZOFFSETFROM:-0400
TZOFFSETTO:-0500
TZNAME:EST
DTSTART:20241103T060000
END:STANDARD
END:VTIMEZONE
BEGIN:VEVENT
DTSTART;TZID=America/New_York:20230805T130000
DTEND;TZID=America/New_York:20230805T170000
DTSTAMP:20260421T012417
CREATED:20230727T203032Z
LAST-MODIFIED:20230810T170100Z
UID:32198-1691240400-1691254800@cleanairenc.org
SUMMARY:Broad River Summer Sweep
DESCRIPTION:Help MountainTrue and Broad Riverkeeper David Caldwell clean up the Broad River from 1-5:00 p.m. on Saturday\, August 5! \nThe group will clean up ~five miles on one of the Broad’s most popular and scenic sections — Lake Houser to the Broad River Greenway. Please bring your boat\, paddle\, and lifejacket\, water\, snacks\, sunscreen\, sturdy water shoes or sneakers (no flip-flops)\, gloves and trash bags\, towels\, and a dry change of clothes. Advance registration required.
URL:https://cleanairenc.org/event/broad-river-summer-sweep/
LOCATION:Lake Houser Put In\, 1350 Lake Houser Rd\, Mooresboro\, NC\, 28114\, United States
CATEGORIES:Past
ATTACH;FMTTYPE=image/jpeg:https://cleanairenc.org/wp-content/uploads/2023/07/8-5-Broad-River-Summer-Sweep-KIMG4322-from-2021-5-29-scaled-1.jpeg
END:VEVENT
END:VCALENDAR