BEGIN:VCALENDAR
VERSION:2.0
PRODID:-//CleanAIRE NC - ECPv6.15.20//NONSGML v1.0//EN
CALSCALE:GREGORIAN
METHOD:PUBLISH
X-WR-CALNAME:CleanAIRE NC
X-ORIGINAL-URL:https://cleanairenc.org
X-WR-CALDESC:Events for CleanAIRE NC
REFRESH-INTERVAL;VALUE=DURATION:PT1H
X-Robots-Tag:noindex
X-PUBLISHED-TTL:PT1H
BEGIN:VTIMEZONE
TZID:America/New_York
BEGIN:DAYLIGHT
TZOFFSETFROM:-0500
TZOFFSETTO:-0400
TZNAME:EDT
DTSTART:20220313T070000
END:DAYLIGHT
BEGIN:STANDARD
TZOFFSETFROM:-0400
TZOFFSETTO:-0500
TZNAME:EST
DTSTART:20221106T060000
END:STANDARD
BEGIN:DAYLIGHT
TZOFFSETFROM:-0500
TZOFFSETTO:-0400
TZNAME:EDT
DTSTART:20230312T070000
END:DAYLIGHT
BEGIN:STANDARD
TZOFFSETFROM:-0400
TZOFFSETTO:-0500
TZNAME:EST
DTSTART:20231105T060000
END:STANDARD
BEGIN:DAYLIGHT
TZOFFSETFROM:-0500
TZOFFSETTO:-0400
TZNAME:EDT
DTSTART:20240310T070000
END:DAYLIGHT
BEGIN:STANDARD
TZOFFSETFROM:-0400
TZOFFSETTO:-0500
TZNAME:EST
DTSTART:20241103T060000
END:STANDARD
END:VTIMEZONE
BEGIN:VEVENT
DTSTART;TZID=America/New_York:20230810T180000
DTEND;TZID=America/New_York:20230810T200000
DTSTAMP:20260421T011417
CREATED:20230802T170656Z
LAST-MODIFIED:20230814T192045Z
UID:32232-1691690400-1691697600@cleanairenc.org
SUMMARY:Workshop: Prepare for the Durham Energy Rate Hike Hearing
DESCRIPTION:Duke Energy hopes to increase energy rates by 17.9% over the next three years such that by 2026\, the average annual residential electric bill would be about $240 higher than it is today. To share your story and prevent this energy rate increase\, you can give testimony to the NC Utilities Commission at a public hearing in Durham on August\, 14. \nSunrise Durham\, People Power NC\, and other community organizations are organizing a teach-in workshop on Thursday\, August 10 from 6-8 PM at the Center for Responsible Lending to help you learn about the increases and prepare for the hearing on the 14th. Participants will walk through the energy rate increases and work on public statements together in preparation for the hearing. \nRSVP at tinyurl.com/dukeratehikes if you would like to learn more and/or take action. \n 
URL:https://cleanairenc.org/event/workshop-prepare-for-the-durham-energy-rate-hike-hearing/
LOCATION:Center for Responsible Lending\, 302 W. Main Street\, Durham\, NC\, 27701\, United States
CATEGORIES:Past
ATTACH;FMTTYPE=image/png:https://cleanairenc.org/wp-content/uploads/2023/08/Workshop-Durham-Energy-Rate-Hearing.png
END:VEVENT
END:VCALENDAR