BEGIN:VCALENDAR
VERSION:2.0
PRODID:-//CleanAIRE NC - ECPv6.15.20//NONSGML v1.0//EN
CALSCALE:GREGORIAN
METHOD:PUBLISH
X-ORIGINAL-URL:https://cleanairenc.org
X-WR-CALDESC:Events for CleanAIRE NC
REFRESH-INTERVAL;VALUE=DURATION:PT1H
X-Robots-Tag:noindex
X-PUBLISHED-TTL:PT1H
BEGIN:VTIMEZONE
TZID:America/New_York
BEGIN:DAYLIGHT
TZOFFSETFROM:-0500
TZOFFSETTO:-0400
TZNAME:EDT
DTSTART:20220313T070000
END:DAYLIGHT
BEGIN:STANDARD
TZOFFSETFROM:-0400
TZOFFSETTO:-0500
TZNAME:EST
DTSTART:20221106T060000
END:STANDARD
BEGIN:DAYLIGHT
TZOFFSETFROM:-0500
TZOFFSETTO:-0400
TZNAME:EDT
DTSTART:20230312T070000
END:DAYLIGHT
BEGIN:STANDARD
TZOFFSETFROM:-0400
TZOFFSETTO:-0500
TZNAME:EST
DTSTART:20231105T060000
END:STANDARD
BEGIN:DAYLIGHT
TZOFFSETFROM:-0500
TZOFFSETTO:-0400
TZNAME:EDT
DTSTART:20240310T070000
END:DAYLIGHT
BEGIN:STANDARD
TZOFFSETFROM:-0400
TZOFFSETTO:-0500
TZNAME:EST
DTSTART:20241103T060000
END:STANDARD
END:VTIMEZONE
BEGIN:VEVENT
DTSTART;TZID=America/New_York:20230814T080000
DTEND;TZID=America/New_York:20230816T170000
DTSTAMP:20260421T012416
CREATED:20230428T150840Z
LAST-MODIFIED:20230816T205726Z
UID:31678-1692000000-1692205200@cleanairenc.org
SUMMARY:Sustainable Fleet Technology Conference & Expo 2023
DESCRIPTION:Discover the latest and greatest in sustainable fleet technology\, operations\, and implementation. \nJoin the NC Clean Energy Technology Center\, along with other leading fleets and technology providers\, to share industry ideas\, trends\, strategies\, and technologies that will improve the efficiency and sustainability of fleet operations. The event will include keynote presentations\, 50+ panelists\, breakout sessions\, indoor vehicle/equipment displays\, and plenty of networking opportunities. \nLearn more and register here.
URL:https://cleanairenc.org/event/sustainable-fleet-technology-conference-expo-2023/
LOCATION:Raleigh Convention Center\, 500 South Salisbury Street\, Raleigh\, NC\, 27601\, United States
CATEGORIES:Past
ATTACH;FMTTYPE=image/png:https://cleanairenc.org/wp-content/uploads/2023/04/Sustainable-Fleet-Expo-2023.png
END:VEVENT
END:VCALENDAR