BEGIN:VCALENDAR
VERSION:2.0
PRODID:-//CleanAIRE NC - ECPv6.15.20//NONSGML v1.0//EN
CALSCALE:GREGORIAN
METHOD:PUBLISH
X-WR-CALNAME:CleanAIRE NC
X-ORIGINAL-URL:https://cleanairenc.org
X-WR-CALDESC:Events for CleanAIRE NC
REFRESH-INTERVAL;VALUE=DURATION:PT1H
X-Robots-Tag:noindex
X-PUBLISHED-TTL:PT1H
BEGIN:VTIMEZONE
TZID:America/New_York
BEGIN:DAYLIGHT
TZOFFSETFROM:-0500
TZOFFSETTO:-0400
TZNAME:EDT
DTSTART:20220313T070000
END:DAYLIGHT
BEGIN:STANDARD
TZOFFSETFROM:-0400
TZOFFSETTO:-0500
TZNAME:EST
DTSTART:20221106T060000
END:STANDARD
BEGIN:DAYLIGHT
TZOFFSETFROM:-0500
TZOFFSETTO:-0400
TZNAME:EDT
DTSTART:20230312T070000
END:DAYLIGHT
BEGIN:STANDARD
TZOFFSETFROM:-0400
TZOFFSETTO:-0500
TZNAME:EST
DTSTART:20231105T060000
END:STANDARD
BEGIN:DAYLIGHT
TZOFFSETFROM:-0500
TZOFFSETTO:-0400
TZNAME:EDT
DTSTART:20240310T070000
END:DAYLIGHT
BEGIN:STANDARD
TZOFFSETFROM:-0400
TZOFFSETTO:-0500
TZNAME:EST
DTSTART:20241103T060000
END:STANDARD
END:VTIMEZONE
BEGIN:VEVENT
DTSTART;TZID=America/New_York:20230909T090000
DTEND;TZID=America/New_York:20230909T140000
DTSTAMP:20260420T234944
CREATED:20230907T151848Z
LAST-MODIFIED:20230911T151522Z
UID:32475-1694250000-1694268000@cleanairenc.org
SUMMARY:Spidey Sens-r Party: A Community Air Monitoring Effort
DESCRIPTION:The North Carolina Environmental Justice Network (NCEJN) invites you to their first-ever Spidey Sens-r participatory air monitoring effort! Spidey Sens-r is a community science project that works by collecting dust that settles on funnel weaver spider webs. Help monitor the air quality in your community by collecting spider webs from around Goldsboro. \nLearn more and register for free here. \nNCEJN is co-hosting this community sampling event with Down East Coal Ash Environmental and Social Justice Coalition. Down East will share concerns about current sources of air pollution in Greenville. Participants will then use Spidey Sens-r to help measure and address them. \n“Spidey Sens-r” is a network of air quality monitors using spider webs. Participants will learn how to identify and collect funnel webs\, log coordinates\, and send them to our lab to be tested for metals. After a few demonstrations\, you will go out into the community and collect these webs together. With spider webs as bioindicators\, we can detect differences in air quality at the neighborhood level. \nTentative Agenda\n9:00 – 9:15 AM       Welcome and Registration\n9:15 – 9:25 AM       Spidey Sens-r Project overview\n9:25 – 10:10 AM     Web sampling training\n10:10 – 1:00 PM     Community web sampling\n1:00 – 2:00 PM       Lunch and closing
URL:https://cleanairenc.org/event/spidey-sens-r-party-a-community-air-monitoring-effort/
LOCATION:Goldsboro\, NC\, Goldsboro\, NC\, 27530\, United States
CATEGORIES:Past
ATTACH;FMTTYPE=image/png:https://cleanairenc.org/wp-content/uploads/2023/09/Spidey-Sens-r-Party.png
END:VEVENT
END:VCALENDAR