BEGIN:VCALENDAR
VERSION:2.0
PRODID:-//CleanAIRE NC - ECPv6.15.20//NONSGML v1.0//EN
CALSCALE:GREGORIAN
METHOD:PUBLISH
X-ORIGINAL-URL:https://cleanairenc.org
X-WR-CALDESC:Events for CleanAIRE NC
REFRESH-INTERVAL;VALUE=DURATION:PT1H
X-Robots-Tag:noindex
X-PUBLISHED-TTL:PT1H
BEGIN:VTIMEZONE
TZID:America/New_York
BEGIN:DAYLIGHT
TZOFFSETFROM:-0500
TZOFFSETTO:-0400
TZNAME:EDT
DTSTART:20220313T070000
END:DAYLIGHT
BEGIN:STANDARD
TZOFFSETFROM:-0400
TZOFFSETTO:-0500
TZNAME:EST
DTSTART:20221106T060000
END:STANDARD
BEGIN:DAYLIGHT
TZOFFSETFROM:-0500
TZOFFSETTO:-0400
TZNAME:EDT
DTSTART:20230312T070000
END:DAYLIGHT
BEGIN:STANDARD
TZOFFSETFROM:-0400
TZOFFSETTO:-0500
TZNAME:EST
DTSTART:20231105T060000
END:STANDARD
BEGIN:DAYLIGHT
TZOFFSETFROM:-0500
TZOFFSETTO:-0400
TZNAME:EDT
DTSTART:20240310T070000
END:DAYLIGHT
BEGIN:STANDARD
TZOFFSETFROM:-0400
TZOFFSETTO:-0500
TZNAME:EST
DTSTART:20241103T060000
END:STANDARD
END:VTIMEZONE
BEGIN:VEVENT
DTSTART;TZID=America/New_York:20230916T110000
DTEND;TZID=America/New_York:20230916T150000
DTSTAMP:20260420T232146
CREATED:20230809T195943Z
LAST-MODIFIED:20230918T175425Z
UID:32267-1694862000-1694876400@cleanairenc.org
SUMMARY:The People's Hearing
DESCRIPTION:Are you impacted by the smells\, air\, and water quality concerns from concentrated animal feeding operations/factory farms/industrial agriculture? Do you feel it is unjust that North Carolina’s environmental regulations surrounding hog\, poultry\, and dairy production regularly promote industry more than protect our communities? \nIf your answer is yes\, then JOIN community members across the state for a People’s Hearing and lend your voice to the discussion about what needs to be done to protect the environment and our communities from the impacts of industrial animal agriculture! \nWHERE:\nRebuilding Broken Places CDC\n2105 N. William St.\nGoldsboro\, NC 27530 \nWHEN:\nSaturday\, Sept. 16\, 2023\n11 a.m. – 3 p.m. \nLunch\, travel subsidies\, child care\, and Spanish interpretation will be provided. \nTo register and for more information go to tinyurl.com/peopleshearing23 \nBackground: \nThe North Carolina Department of Environmental Quality is seeking public input on a series of general permits regulating industrial animal operations at concentrated animal feeding operations (CAFOs)\, including permits governing hog production\, wet poultry\, cattle and biogas — a dirty source of energy that is converted from untreated waste at CAFO facilities. The existing general permits are all set to expire September 2024. They will be renewed for a 5-year term that starts October 2024 and runs until September 2029. \nThese permits outline how animal waste must be managed at these facilities and the rules meant to prevent waste from harming the environment and nearby communities. Unfortunately\, many of these rules are outdated and ineffective\, and CAFOs continue to pollute the environment and harm nearby residents across southeastern North Carolina.  \nThe purpose of the People’s Hearing is to gather testimonies from those impacted by industrial animal operations to prove that NCDEQ must strengthen permits to protect our communities from toxic pollution. \nJoin us to share your story and get connected with others involved in the fight for healthy communities!
URL:https://cleanairenc.org/event/the-peoples-hearing/
LOCATION:Rebuilding Broken Places CDC\, 2105 N William Street\, Goldsboro\, NC\, 27530\, United States
CATEGORIES:Past,CAFOs
ATTACH;FMTTYPE=image/jpeg:https://cleanairenc.org/wp-content/uploads/2023/08/Peoples_Hearing_Horizontal_English.jpg
END:VEVENT
END:VCALENDAR