BEGIN:VCALENDAR
VERSION:2.0
PRODID:-//CleanAIRE NC - ECPv6.15.20//NONSGML v1.0//EN
CALSCALE:GREGORIAN
METHOD:PUBLISH
X-ORIGINAL-URL:https://cleanairenc.org
X-WR-CALDESC:Events for CleanAIRE NC
REFRESH-INTERVAL;VALUE=DURATION:PT1H
X-Robots-Tag:noindex
X-PUBLISHED-TTL:PT1H
BEGIN:VTIMEZONE
TZID:America/New_York
BEGIN:DAYLIGHT
TZOFFSETFROM:-0500
TZOFFSETTO:-0400
TZNAME:EDT
DTSTART:20220313T070000
END:DAYLIGHT
BEGIN:STANDARD
TZOFFSETFROM:-0400
TZOFFSETTO:-0500
TZNAME:EST
DTSTART:20221106T060000
END:STANDARD
BEGIN:DAYLIGHT
TZOFFSETFROM:-0500
TZOFFSETTO:-0400
TZNAME:EDT
DTSTART:20230312T070000
END:DAYLIGHT
BEGIN:STANDARD
TZOFFSETFROM:-0400
TZOFFSETTO:-0500
TZNAME:EST
DTSTART:20231105T060000
END:STANDARD
BEGIN:DAYLIGHT
TZOFFSETFROM:-0500
TZOFFSETTO:-0400
TZNAME:EDT
DTSTART:20240310T070000
END:DAYLIGHT
BEGIN:STANDARD
TZOFFSETFROM:-0400
TZOFFSETTO:-0500
TZNAME:EST
DTSTART:20241103T060000
END:STANDARD
END:VTIMEZONE
BEGIN:VEVENT
DTSTART;TZID=America/New_York:20230926T180000
DTEND;TZID=America/New_York:20230926T200000
DTSTAMP:20260420T210211
CREATED:20230914T180534Z
LAST-MODIFIED:20230927T145012Z
UID:32480-1695751200-1695758400@cleanairenc.org
SUMMARY:The Smell of Money Free Film Screening
DESCRIPTION:A century after her grandfather claimed his freedom from slavery and the family land\, Elsie Herring and her North Carolina community fight the world’s largest pork corporation for their freedom to enjoy fresh air\, clean water\, and a life without the stench of manure. Watch the trailer: smellofmoneydoc.com \nJoin us on Tuesday\, September 26 at Davidson College for a special screening of The Smell of Money\, a film about the pork industry’s impacts on eastern NC communities. Tickets are free\, but seats are limited. Click here to reserve your seat.  \nSponsored by CleanAIRE NC\, Davidson College\, and the North Carolina Conservation Network. Food will be served at 5:30pm for the first 100 attendees. Parking available at Baker Sports Complex. \n  \n 
URL:https://cleanairenc.org/event/the-smell-of-money-film-screening-and-conversation-2/
LOCATION:Davidson College\, 225 Baker Drive\, Davidson\, NC\, 28036\, United States
CATEGORIES:Past,CAFOs
ATTACH;FMTTYPE=image/jpeg:https://cleanairenc.org/wp-content/uploads/2022/09/the_smell_of_money-2554x1440-1-1400x600-1.jpeg
END:VEVENT
END:VCALENDAR