BEGIN:VCALENDAR
VERSION:2.0
PRODID:-//CleanAIRE NC - ECPv6.15.20//NONSGML v1.0//EN
CALSCALE:GREGORIAN
METHOD:PUBLISH
X-WR-CALNAME:CleanAIRE NC
X-ORIGINAL-URL:https://cleanairenc.org
X-WR-CALDESC:Events for CleanAIRE NC
REFRESH-INTERVAL;VALUE=DURATION:PT1H
X-Robots-Tag:noindex
X-PUBLISHED-TTL:PT1H
BEGIN:VTIMEZONE
TZID:America/New_York
BEGIN:DAYLIGHT
TZOFFSETFROM:-0500
TZOFFSETTO:-0400
TZNAME:EDT
DTSTART:20220313T070000
END:DAYLIGHT
BEGIN:STANDARD
TZOFFSETFROM:-0400
TZOFFSETTO:-0500
TZNAME:EST
DTSTART:20221106T060000
END:STANDARD
BEGIN:DAYLIGHT
TZOFFSETFROM:-0500
TZOFFSETTO:-0400
TZNAME:EDT
DTSTART:20230312T070000
END:DAYLIGHT
BEGIN:STANDARD
TZOFFSETFROM:-0400
TZOFFSETTO:-0500
TZNAME:EST
DTSTART:20231105T060000
END:STANDARD
BEGIN:DAYLIGHT
TZOFFSETFROM:-0500
TZOFFSETTO:-0400
TZNAME:EDT
DTSTART:20240310T070000
END:DAYLIGHT
BEGIN:STANDARD
TZOFFSETFROM:-0400
TZOFFSETTO:-0500
TZNAME:EST
DTSTART:20241103T060000
END:STANDARD
END:VTIMEZONE
BEGIN:VEVENT
DTSTART;TZID=America/New_York:20230927T190000
DTEND;TZID=America/New_York:20230929T170000
DTSTAMP:20260420T205808
CREATED:20230727T201908Z
LAST-MODIFIED:20231002T214230Z
UID:32193-1695841200-1696006800@cleanairenc.org
SUMMARY:NC Public Health Association 2023 Fall Educational Conference
DESCRIPTION:The NCPHA Fall Educational Conference gathers public health professionals at every level from students to mid-career professionals to retired experts from around the state to exchange information and create a healthier North Carolina through effective public health practice and engaged citizens. Dedicated public health professionals who want to connect with peers\, pick up new ideas\, and gain skills to bring back to their workplace or community are encouraged to attend. \nRegister by September 13 to exchange ideas\, strategize new medical practices\, and network with others with similar interests\, goals\, and backgrounds. And be sure to stop by our CleanAIRE NC exhibit to learn more about our Health Program.
URL:https://cleanairenc.org/event/ncpha-2023-fall-conference/
LOCATION:Concord Embassy Suites\, 5400 John Q. Hammons Dr NW\, Concord\, NC\, 28027\, United States
CATEGORIES:Past
ATTACH;FMTTYPE=image/png:https://cleanairenc.org/wp-content/uploads/2023/07/NCPHA-Fall-Conference.png
END:VEVENT
END:VCALENDAR