BEGIN:VCALENDAR
VERSION:2.0
PRODID:-//CleanAIRE NC - ECPv6.15.20//NONSGML v1.0//EN
CALSCALE:GREGORIAN
METHOD:PUBLISH
X-WR-CALNAME:CleanAIRE NC
X-ORIGINAL-URL:https://cleanairenc.org
X-WR-CALDESC:Events for CleanAIRE NC
REFRESH-INTERVAL;VALUE=DURATION:PT1H
X-Robots-Tag:noindex
X-PUBLISHED-TTL:PT1H
BEGIN:VTIMEZONE
TZID:America/New_York
BEGIN:DAYLIGHT
TZOFFSETFROM:-0500
TZOFFSETTO:-0400
TZNAME:EDT
DTSTART:20220313T070000
END:DAYLIGHT
BEGIN:STANDARD
TZOFFSETFROM:-0400
TZOFFSETTO:-0500
TZNAME:EST
DTSTART:20221106T060000
END:STANDARD
BEGIN:DAYLIGHT
TZOFFSETFROM:-0500
TZOFFSETTO:-0400
TZNAME:EDT
DTSTART:20230312T070000
END:DAYLIGHT
BEGIN:STANDARD
TZOFFSETFROM:-0400
TZOFFSETTO:-0500
TZNAME:EST
DTSTART:20231105T060000
END:STANDARD
BEGIN:DAYLIGHT
TZOFFSETFROM:-0500
TZOFFSETTO:-0400
TZNAME:EDT
DTSTART:20240310T070000
END:DAYLIGHT
BEGIN:STANDARD
TZOFFSETFROM:-0400
TZOFFSETTO:-0500
TZNAME:EST
DTSTART:20241103T060000
END:STANDARD
END:VTIMEZONE
BEGIN:VEVENT
DTSTART;TZID=America/New_York:20231004T090000
DTEND;TZID=America/New_York:20231004T170000
DTSTAMP:20260420T205752
CREATED:20230825T212740Z
LAST-MODIFIED:20231005T141721Z
UID:32451-1696410000-1696438800@cleanairenc.org
SUMMARY:From Barrels to Batteries: A Roundtable on Rural Transportation Electrification in the Southeast
DESCRIPTION:Join local and state leaders for a roundtable discussion on vehicle electrification in the rural southeast. The rapid growth in electric vehicles (EVs) today is part of a fundamental shift in transportation. All Americans and communities can benefit from the lower operating costs and increased economic development opportunities. Implementing charging infrastructure will also require a large-scale on-the-ground effort\, which will create high-quality jobs for rural communities in North Carolina\, South Carolina\, Georgia\, and Florida. \nThis event will bring together new stakeholders and participants from previous transportation electrification roundtables to share information\, develop policy plans\, and form partnerships that traverse state lines. \nLearn more and register at: electrificationcoalition.org/se-rural-roundtable
URL:https://cleanairenc.org/event/from-barrels-to-batteries-a-roundtable-on-rural-transportation-electrification-in-the-southeast/
LOCATION:Central Piedmont Community College – Harris Conference Center\, 3216 Cpcc Harris Campus Dr\, Charlotte\, NC\, 28208\, United States
CATEGORIES:Past
ATTACH;FMTTYPE=image/png:https://cleanairenc.org/wp-content/uploads/2023/08/From-Barrels-to-Batteries.png
END:VEVENT
END:VCALENDAR