BEGIN:VCALENDAR
VERSION:2.0
PRODID:-//CleanAIRE NC - ECPv6.15.20//NONSGML v1.0//EN
CALSCALE:GREGORIAN
METHOD:PUBLISH
X-ORIGINAL-URL:https://cleanairenc.org
X-WR-CALDESC:Events for CleanAIRE NC
REFRESH-INTERVAL;VALUE=DURATION:PT1H
X-Robots-Tag:noindex
X-PUBLISHED-TTL:PT1H
BEGIN:VTIMEZONE
TZID:America/New_York
BEGIN:DAYLIGHT
TZOFFSETFROM:-0500
TZOFFSETTO:-0400
TZNAME:EDT
DTSTART:20220313T070000
END:DAYLIGHT
BEGIN:STANDARD
TZOFFSETFROM:-0400
TZOFFSETTO:-0500
TZNAME:EST
DTSTART:20221106T060000
END:STANDARD
BEGIN:DAYLIGHT
TZOFFSETFROM:-0500
TZOFFSETTO:-0400
TZNAME:EDT
DTSTART:20230312T070000
END:DAYLIGHT
BEGIN:STANDARD
TZOFFSETFROM:-0400
TZOFFSETTO:-0500
TZNAME:EST
DTSTART:20231105T060000
END:STANDARD
BEGIN:DAYLIGHT
TZOFFSETFROM:-0500
TZOFFSETTO:-0400
TZNAME:EDT
DTSTART:20240310T070000
END:DAYLIGHT
BEGIN:STANDARD
TZOFFSETFROM:-0400
TZOFFSETTO:-0500
TZNAME:EST
DTSTART:20241103T060000
END:STANDARD
END:VTIMEZONE
BEGIN:VEVENT
DTSTART;TZID=America/New_York:20231011T090000
DTEND;TZID=America/New_York:20231013T123000
DTSTAMP:20260420T210058
CREATED:20230828T172204Z
LAST-MODIFIED:20231012T173808Z
UID:32458-1697014800-1697200200@cleanairenc.org
SUMMARY:NC Marine Debris Symposium 2023
DESCRIPTION:The North Carolina Marine Debris Symposium provides a collaborative forum for the exchange of information on recent research and top-down solutions that prevent and remove plastic pollution. \nLearn more and register here: coastalcarolinariverwatch.org/marine-debris-symposium
URL:https://cleanairenc.org/event/nc-marine-debris-symposium-2023/
LOCATION:Duke University Marine Laboratory\, 135 Duke Marine Lab Rd\, Beaufort\, NC\, 28516\, United States
CATEGORIES:Past
ATTACH;FMTTYPE=image/png:https://cleanairenc.org/wp-content/uploads/2023/08/NC-Marine-Debris-Symposium-2023.png
END:VEVENT
END:VCALENDAR