BEGIN:VCALENDAR
VERSION:2.0
PRODID:-//CleanAIRE NC - ECPv6.15.20//NONSGML v1.0//EN
CALSCALE:GREGORIAN
METHOD:PUBLISH
X-WR-CALNAME:CleanAIRE NC
X-ORIGINAL-URL:https://cleanairenc.org
X-WR-CALDESC:Events for CleanAIRE NC
REFRESH-INTERVAL;VALUE=DURATION:PT1H
X-Robots-Tag:noindex
X-PUBLISHED-TTL:PT1H
BEGIN:VTIMEZONE
TZID:America/New_York
BEGIN:DAYLIGHT
TZOFFSETFROM:-0500
TZOFFSETTO:-0400
TZNAME:EDT
DTSTART:20220313T070000
END:DAYLIGHT
BEGIN:STANDARD
TZOFFSETFROM:-0400
TZOFFSETTO:-0500
TZNAME:EST
DTSTART:20221106T060000
END:STANDARD
BEGIN:DAYLIGHT
TZOFFSETFROM:-0500
TZOFFSETTO:-0400
TZNAME:EDT
DTSTART:20230312T070000
END:DAYLIGHT
BEGIN:STANDARD
TZOFFSETFROM:-0400
TZOFFSETTO:-0500
TZNAME:EST
DTSTART:20231105T060000
END:STANDARD
BEGIN:DAYLIGHT
TZOFFSETFROM:-0500
TZOFFSETTO:-0400
TZNAME:EDT
DTSTART:20240310T070000
END:DAYLIGHT
BEGIN:STANDARD
TZOFFSETFROM:-0400
TZOFFSETTO:-0500
TZNAME:EST
DTSTART:20241103T060000
END:STANDARD
END:VTIMEZONE
BEGIN:VEVENT
DTSTART;TZID=America/New_York:20231212T140000
DTEND;TZID=America/New_York:20231212T150000
DTSTAMP:20260419T165720
CREATED:20231211T174951Z
LAST-MODIFIED:20231213T152019Z
UID:33279-1702389600-1702393200@cleanairenc.org
SUMMARY:Climate and Age-Friendly Communities with Author Danielle Arigoni
DESCRIPTION:In her new book Climate Resilience for an Aging Nation\, community resilience and housing expert Danielle Arigoni argues that we cannot achieve true resilience until communities adopt interventions that work to meet the needs of their oldest residents. \nJoin this America Walks webinar for a discussion on how to integrate age-friendly resilience into community planning and disaster preparedness efforts The discussion will be hosted by America Walks board members Arlis Reynolds\, a city council member from Costa Mesa\, CA\, and David Dixon\, an urban planner with Stantec. \nRegister here: https://americawalks.org/webinar-climate-and-age-friendly-communities/ \nThe discussion will be hosted by America Walks board members Arlis Reynolds\, a city council member from Costa Mesa\, CA\, and David Dixon\, an urban planner with Stantec.
URL:https://cleanairenc.org/event/climate-and-age-friendly-communities-with-author-danielle-arigoni/
LOCATION:Virtual
CATEGORIES:Past
ATTACH;FMTTYPE=image/png:https://cleanairenc.org/wp-content/uploads/2023/12/December-2023-Webinar-FBEmail.png
END:VEVENT
END:VCALENDAR