BEGIN:VCALENDAR
VERSION:2.0
PRODID:-//CleanAIRE NC - ECPv6.15.20//NONSGML v1.0//EN
CALSCALE:GREGORIAN
METHOD:PUBLISH
X-ORIGINAL-URL:https://cleanairenc.org
X-WR-CALDESC:Events for CleanAIRE NC
REFRESH-INTERVAL;VALUE=DURATION:PT1H
X-Robots-Tag:noindex
X-PUBLISHED-TTL:PT1H
BEGIN:VTIMEZONE
TZID:America/New_York
BEGIN:DAYLIGHT
TZOFFSETFROM:-0500
TZOFFSETTO:-0400
TZNAME:EDT
DTSTART:20250309T070000
END:DAYLIGHT
BEGIN:STANDARD
TZOFFSETFROM:-0400
TZOFFSETTO:-0500
TZNAME:EST
DTSTART:20251102T060000
END:STANDARD
BEGIN:DAYLIGHT
TZOFFSETFROM:-0500
TZOFFSETTO:-0400
TZNAME:EDT
DTSTART:20260308T070000
END:DAYLIGHT
BEGIN:STANDARD
TZOFFSETFROM:-0400
TZOFFSETTO:-0500
TZNAME:EST
DTSTART:20261101T060000
END:STANDARD
BEGIN:DAYLIGHT
TZOFFSETFROM:-0500
TZOFFSETTO:-0400
TZNAME:EDT
DTSTART:20270314T070000
END:DAYLIGHT
BEGIN:STANDARD
TZOFFSETFROM:-0400
TZOFFSETTO:-0500
TZNAME:EST
DTSTART:20271107T060000
END:STANDARD
END:VTIMEZONE
BEGIN:VEVENT
DTSTART;TZID=America/New_York:20260422T183000
DTEND;TZID=America/New_York:20260422T200000
DTSTAMP:20260421T020555
CREATED:20260330T142641Z
LAST-MODIFIED:20260330T142641Z
UID:40863-1776882600-1776888000@cleanairenc.org
SUMMARY:Earth Day Environmental Justice Webinar
DESCRIPTION:Join us for an Earth Day Environmental Justice Webinar \nDate & Time\nApr 22\, 2026 06:30 PM (EST) \nOur Moderator & Panelists:\nModerator: Mozine Lowe\, Executive Director\, The Center for Energy Education \nPanelists:\nAttorney Sherri White-Williamson\, Co-founder of Environmental Justice Community Action Network (EJCAN) \nAttorney Will Hendrick\, Environmental Justice Director\, NC Conservation Network \nCrystal Cavalier-Keck\, Founder\, 7 Directions of Service \nAttorney Gary Redding\, Halifax County Commissioner\, and Plaintiffs’ Attorney for Tillery Hog Waste lawsuit \nWebinar Sponsors:\nLake Gaston Area (NC) Chapter of The Links\, Incorporated\nCleanAIRE NC\nEnfield-Roanoke Rapids Chapter\, Delta Sigma Theta Sorority\, Inc. \nRegister >> https://us02web.zoom.us/meeting/register/CvUKRjFESBmAPivegILIeg#/registration
URL:https://cleanairenc.org/event/earth-day-environmental-justice-webinar/
LOCATION:Virtual
CATEGORIES:Upcoming,CAFOs
END:VEVENT
END:VCALENDAR