BEGIN:VCALENDAR
VERSION:2.0
PRODID:-//CleanAIRE NC - ECPv6.15.20//NONSGML v1.0//EN
CALSCALE:GREGORIAN
METHOD:PUBLISH
X-WR-CALNAME:CleanAIRE NC
X-ORIGINAL-URL:https://cleanairenc.org
X-WR-CALDESC:Events for CleanAIRE NC
REFRESH-INTERVAL;VALUE=DURATION:PT1H
X-Robots-Tag:noindex
X-PUBLISHED-TTL:PT1H
BEGIN:VTIMEZONE
TZID:America/New_York
BEGIN:DAYLIGHT
TZOFFSETFROM:-0500
TZOFFSETTO:-0400
TZNAME:EDT
DTSTART:20230312T070000
END:DAYLIGHT
BEGIN:STANDARD
TZOFFSETFROM:-0400
TZOFFSETTO:-0500
TZNAME:EST
DTSTART:20231105T060000
END:STANDARD
BEGIN:DAYLIGHT
TZOFFSETFROM:-0500
TZOFFSETTO:-0400
TZNAME:EDT
DTSTART:20240310T070000
END:DAYLIGHT
BEGIN:STANDARD
TZOFFSETFROM:-0400
TZOFFSETTO:-0500
TZNAME:EST
DTSTART:20241103T060000
END:STANDARD
BEGIN:DAYLIGHT
TZOFFSETFROM:-0500
TZOFFSETTO:-0400
TZNAME:EDT
DTSTART:20250309T070000
END:DAYLIGHT
BEGIN:STANDARD
TZOFFSETFROM:-0400
TZOFFSETTO:-0500
TZNAME:EST
DTSTART:20251102T060000
END:STANDARD
END:VTIMEZONE
BEGIN:VEVENT
DTSTART;TZID=America/New_York:20241019T090000
DTEND;TZID=America/New_York:20241019T140000
DTSTAMP:20260422T083238
CREATED:20240923T123808Z
LAST-MODIFIED:20241021T151826Z
UID:34961-1729328400-1729346400@cleanairenc.org
SUMMARY:GreenPrints Community Kickoff
DESCRIPTION:We invite you to be part of shaping the future of Charlotte. A community forum is tentatively scheduled for October to gather input from residents on GreenPrints projects. Your insights and ideas are crucial to the success of this initiative. \nHelp Create a Greener Charlotte\nGreenPrints Kickoff\nSaturday\, October 19 | 9:00 AM – 2:00 PM\nThe Dubois Center | UNC Charlotte Center City\n320 E 9th Street\, Charlotte \nRSVP: https://docs.google.com/forms/d/e/1FAIpQLSfIwdLDDG6KhkBqWFwou_FkRrb8pzMcW1sLOPs7k3VdsK3CDQ/viewform
URL:https://cleanairenc.org/event/greenprints-community-kickoff/
LOCATION:The Dubois Center at UNC Charlotte Center City\, 320 E 9th St\, Charlotte\, NC\, 28215\, United States
CATEGORIES:Past,Charlotte Mecklenburg Climate Leaders
ATTACH;FMTTYPE=image/png:https://cleanairenc.org/wp-content/uploads/2024/09/Help-Create-a-Green-Charlotte_GreenPrints.png
END:VEVENT
END:VCALENDAR