BEGIN:VCALENDAR
VERSION:2.0
PRODID:-//CleanAIRE NC - ECPv6.15.20//NONSGML v1.0//EN
CALSCALE:GREGORIAN
METHOD:PUBLISH
X-ORIGINAL-URL:https://cleanairenc.org
X-WR-CALDESC:Events for CleanAIRE NC
REFRESH-INTERVAL;VALUE=DURATION:PT1H
X-Robots-Tag:noindex
X-PUBLISHED-TTL:PT1H
BEGIN:VTIMEZONE
TZID:America/New_York
BEGIN:DAYLIGHT
TZOFFSETFROM:-0500
TZOFFSETTO:-0400
TZNAME:EDT
DTSTART:20240310T070000
END:DAYLIGHT
BEGIN:STANDARD
TZOFFSETFROM:-0400
TZOFFSETTO:-0500
TZNAME:EST
DTSTART:20241103T060000
END:STANDARD
BEGIN:DAYLIGHT
TZOFFSETFROM:-0500
TZOFFSETTO:-0400
TZNAME:EDT
DTSTART:20250309T070000
END:DAYLIGHT
BEGIN:STANDARD
TZOFFSETFROM:-0400
TZOFFSETTO:-0500
TZNAME:EST
DTSTART:20251102T060000
END:STANDARD
BEGIN:DAYLIGHT
TZOFFSETFROM:-0500
TZOFFSETTO:-0400
TZNAME:EDT
DTSTART:20260308T070000
END:DAYLIGHT
BEGIN:STANDARD
TZOFFSETFROM:-0400
TZOFFSETTO:-0500
TZNAME:EST
DTSTART:20261101T060000
END:STANDARD
END:VTIMEZONE
BEGIN:VEVENT
DTSTART;TZID=America/New_York:20250607T083000
DTEND;TZID=America/New_York:20250607T150000
DTSTAMP:20260422T175102
CREATED:20250520T195405Z
LAST-MODIFIED:20250612T151836Z
UID:38571-1749285000-1749308400@cleanairenc.org
SUMMARY:Charlotte Sustainability Summit
DESCRIPTION:Join Share Charlotte and Carben Events on Saturday\, June 7th at The Dubois Center at UNCC Center City for a full-day designed for Charlotte residents eager to explore citywide sustainability initiatives and discover practical ways to make a positive impact in their daily lives. \nAttendees can attend multiple workshops and discussions from different non-profit organizations\, corporate leader\, and city and county leaders highlighting the impact of collaborative efforts in advancing sustainability in Charlotte. \nRSVP >> https://cltsustainabilitysummit.com/
URL:https://cleanairenc.org/event/charlotte-sustainability-summit-2025/
LOCATION:The Dubois Center at UNC Charlotte Center City\, 320 E 9th St\, Charlotte\, NC\, 28215\, United States
CATEGORIES:Past,Charlotte Mecklenburg Climate Leaders
END:VEVENT
BEGIN:VEVENT
DTSTART;TZID=America/New_York:20251104T180000
DTEND;TZID=America/New_York:20251104T190000
DTSTAMP:20260422T175102
CREATED:20251021T150222Z
LAST-MODIFIED:20251112T144734Z
UID:39718-1762279200-1762282800@cleanairenc.org
SUMMARY:Webinar: Rights of Nature & Indigenous Climate Advocacy
DESCRIPTION:Join NC WARN and Crystal Cavalier-Keck\, a co-founder of 7 Directions of Service and citizen of the Occaneechi Band of the Saponi Nation\, for an education session on climate advocacy through an Indigenous lens\, including the importance of Rights of Nature efforts. Rights of Nature incorporates traditional\, life-honoring Indigenous perspectives into a Western legal framework; these laws strengthen environmental and community protections by evolving the status of nature from “property” to a rights-bearing entity\, like a person. Learn more about how these laws are crucial to climate justice efforts and what a local organization is doing to uplift Indigenous voices in the movement. \nPlease register by November 4th\, 12:00pm (ET): \nhttps://us06web.zoom.us/meeting/register/Nf4hDTlQT0C2p5eYqu00CA#/registration \n 
URL:https://cleanairenc.org/event/rights-of-nature-and-indigenous-climate-advocacy/
LOCATION:Zoom
CATEGORIES:Past,Charlotte Mecklenburg Climate Leaders
ATTACH;FMTTYPE=image/jpeg:https://cleanairenc.org/wp-content/uploads/2025/10/NCWARN-Webinar-110425.jpg
END:VEVENT
BEGIN:VEVENT
DTSTART;TZID=America/New_York:20251106T100000
DTEND;TZID=America/New_York:20251106T230000
DTSTAMP:20260422T175102
CREATED:20251021T160238Z
LAST-MODIFIED:20251112T144556Z
UID:39728-1762423200-1762470000@cleanairenc.org
SUMMARY:Webinar: 2026 Proposed Carbon Plan
DESCRIPTION:Duke Energy released its proposed Carbon Plan/Integrated Resource Plan on October 1\, 2025\, for the North Carolina Utilities Commission (NCUC) to consider. Join NC Sustainable Energy Association (NCSEA) for a deep dive webinar covering the proposed Carbon Plan and what it means for the electricity sector in North Carolina. We’ll cover various facets of the proposal and discuss what’s next in the Carbon Plan process that will last through next year. Registration is free and open to the public. \nRegister here: https://us02web.zoom.us/meeting/register/YXJbFX_JQd-D7fUSIe91KQ
URL:https://cleanairenc.org/event/webinar-2026-proposed-carbon-plan/
LOCATION:Zoom
CATEGORIES:Past,Charlotte Mecklenburg Climate Leaders
ATTACH;FMTTYPE=image/jpeg:https://cleanairenc.org/wp-content/uploads/2025/10/NCSEA-webinar-110625.jpg
END:VEVENT
BEGIN:VEVENT
DTSTART;TZID=America/New_York:20251120T183000
DTEND;TZID=America/New_York:20251120T200000
DTSTAMP:20260422T175102
CREATED:20251112T145829Z
LAST-MODIFIED:20251201T101652Z
UID:40062-1763663400-1763668800@cleanairenc.org
SUMMARY:Conversations & Conservation with Local Advocates
DESCRIPTION:Join Piedmont Promise for an evening of action at Patagonia Charlotte! We’re bringing together partner organizations\, local advocates\, and passionate individuals to celebrate how collective advocacy is driving meaningful change in North Carolina’s Piedmont. \nLearn about how Piedmont Promise began\, the major legislative victories already achieved\, and how YOU can help shape the next chapter of conservation in our region. \nHosted by:  \nLocal Piedmont Promise Partners — Catawba Riverkeeper\, CleanAIRE NC\, Daniel Stowe Conservancy\, Sustain Charlotte\, and Wild Ones Charlotte Piedmont. \nEvening Highlights: \n\nThe origin story of Piedmont Promise\nUpdates on key legislation including House Bill 369\nA look ahead at future work and opportunities to get involved\nNetworking with fellow conservation advocates\n\nEnjoy light refreshments\, an eco-friendly raffle\, and interactive displays. \nRSVP today to save your spot— walkups welcome!
URL:https://cleanairenc.org/event/conversations-conservation-with-local-advocates/
LOCATION:Patagonia Charlotte\, 101 W Worthington Ave #180\, Charlotte\, 28203
CATEGORIES:Past,Charlotte Mecklenburg Climate Leaders
ATTACH;FMTTYPE=image/png:https://cleanairenc.org/wp-content/uploads/2025/11/PP-112025.png
END:VEVENT
BEGIN:VEVENT
DTSTART;TZID=America/New_York:20251209T180000
DTEND;TZID=America/New_York:20251209T200000
DTSTAMP:20260422T175102
CREATED:20251118T174707Z
LAST-MODIFIED:20251211T165526Z
UID:40116-1765303200-1765310400@cleanairenc.org
SUMMARY:Climate Progress Party
DESCRIPTION:This quarter’s CMCL (Charlotte Mecklenburg Climate Leaders) meeting offers a festive opportunity to engage with local climate action and learn about Patagonia’s Work in Progress report. Join us for an evening of insight\, connection\, and community impact. \nHighlights include: \nA Celebration of Climate Action \nThis event is a chance to celebrate the progress and passion driving Charlotte’s climate movement. From grassroots efforts to regional initiatives\, we’re spotlighting the people and organizations making a difference. Come connect\, share ideas\, and be part of a growing community committed to environmental change. \nMeet the Non-Profits \nOur four local environmental non-profits grantees will be in attendance: CleanAIRE NC\, The Bulb\, Catawba Riverkeeper\, & Trees Charlotte. \nGuests who complete a provided card will be entered into a drawing to win Patagonia gear. A new winner will be announced every 30 minutes throughout the event! \nWork in Progress Report \nLearn about Patagonia’s latest climate initiatives and how they’re supporting grassroots efforts in Charlotte. \nEat\, Drink & Enjoy \nEnjoy complimentary snacks and beverages from local vendors\, while soaking in some festive tunes & connecting with fellow climate advocates! \nThis is your invitation to celebrate\, connect\, and take part in Charlotte’s climate movement.
URL:https://cleanairenc.org/event/climate-progress-party/
LOCATION:Patagonia Charlotte\, 101 W Worthington Ave #180\, Charlotte\, 28203
CATEGORIES:Past,Charlotte Mecklenburg Climate Leaders
END:VEVENT
END:VCALENDAR