BEGIN:VCALENDAR
VERSION:2.0
PRODID:-//CleanAIRE NC - ECPv6.15.20//NONSGML v1.0//EN
CALSCALE:GREGORIAN
METHOD:PUBLISH
X-WR-CALNAME:CleanAIRE NC
X-ORIGINAL-URL:https://cleanairenc.org
X-WR-CALDESC:Events for CleanAIRE NC
REFRESH-INTERVAL;VALUE=DURATION:PT1H
X-Robots-Tag:noindex
X-PUBLISHED-TTL:PT1H
BEGIN:VTIMEZONE
TZID:America/New_York
BEGIN:DAYLIGHT
TZOFFSETFROM:-0500
TZOFFSETTO:-0400
TZNAME:EDT
DTSTART:20210314T070000
END:DAYLIGHT
BEGIN:STANDARD
TZOFFSETFROM:-0400
TZOFFSETTO:-0500
TZNAME:EST
DTSTART:20211107T060000
END:STANDARD
BEGIN:DAYLIGHT
TZOFFSETFROM:-0500
TZOFFSETTO:-0400
TZNAME:EDT
DTSTART:20220313T070000
END:DAYLIGHT
BEGIN:STANDARD
TZOFFSETFROM:-0400
TZOFFSETTO:-0500
TZNAME:EST
DTSTART:20221106T060000
END:STANDARD
BEGIN:DAYLIGHT
TZOFFSETFROM:-0500
TZOFFSETTO:-0400
TZNAME:EDT
DTSTART:20230312T070000
END:DAYLIGHT
BEGIN:STANDARD
TZOFFSETFROM:-0400
TZOFFSETTO:-0500
TZNAME:EST
DTSTART:20231105T060000
END:STANDARD
BEGIN:DAYLIGHT
TZOFFSETFROM:-0500
TZOFFSETTO:-0400
TZNAME:EDT
DTSTART:20240310T070000
END:DAYLIGHT
BEGIN:STANDARD
TZOFFSETFROM:-0400
TZOFFSETTO:-0500
TZNAME:EST
DTSTART:20241103T060000
END:STANDARD
BEGIN:DAYLIGHT
TZOFFSETFROM:-0500
TZOFFSETTO:-0400
TZNAME:EDT
DTSTART:20250309T070000
END:DAYLIGHT
BEGIN:STANDARD
TZOFFSETFROM:-0400
TZOFFSETTO:-0500
TZNAME:EST
DTSTART:20251102T060000
END:STANDARD
END:VTIMEZONE
BEGIN:VEVENT
DTSTART;TZID=America/New_York:20240410T170000
DTEND;TZID=America/New_York:20240410T200000
DTSTAMP:20260421T115727
CREATED:20240209T201420Z
LAST-MODIFIED:20240411T134710Z
UID:33580-1712768400-1712779200@cleanairenc.org
SUMMARY:Carbon Plan Rally & Public Hearing: Charlotte
DESCRIPTION:April 10\, 2024  |  5:00pm Rally  |  7:00pm Public Hearing\nMecklenburg County Courthouse\, Courtroom 5350\n832 E. 4th Street\nParking is available in the nearby parking deck at the corner of McDowell and 4th streets. \nJoin us for the Carbon Plan Hearing on Wednesday\, April 10 at 7:00 pm at the Mecklenburg County Courthouse in uptown Charlotte. The Charlotte hearing is one of four in-person hearings being held across the state to take public comment on Duke Energy’s proposed changes to the NC Carbon Plan originally approved by the Utilities Commission in December\, 2022. \nOn April 10th before the Charlotte hearing\, a press conference and rally will be held at 5:00 pm behind the Courthouse\, 832 E. Fourth Street. \nThe Carbon Plan significantly impacts every North Carolinian – from air quality and public health to economic opportunities and environmental sustainability. Organizers intend to use the rally to call out the NCUC and their lack of power against Duke Energy thus far. \nSpeakers at the rally will discuss the negative impacts the updated Carbon Plan will continue to have on BIPOC and low-income individuals already struggling to pay their energy bills. Community leaders and energy advocates will share insights on how North Carolina communities can build a collective voice. Attendees will walk away with actionable steps to voice their concerns and shape the plan’s direction during this public comment process.
URL:https://cleanairenc.org/event/carbon-plan-public-hearing-charlotte/
LOCATION:Mecklenburg County Courthouse\, 832 E. 4th Street\, Charlotte\, 28202
CATEGORIES:Past,Charlotte Mecklenburg Climate Leaders
ATTACH;FMTTYPE=image/png:https://cleanairenc.org/wp-content/uploads/2024/02/CP-Public-Hearing_Charlotte.png
END:VEVENT
BEGIN:VEVENT
DTSTART;TZID=America/New_York:20230720T120000
DTEND;TZID=America/New_York:20230720T130000
DTSTAMP:20260421T115727
CREATED:20230713T184931Z
LAST-MODIFIED:20230721T221623Z
UID:32066-1689854400-1689858000@cleanairenc.org
SUMMARY:"Cash-In" on Clean Energy Tour
DESCRIPTION:Join Mayor Vi Lyles and America Is All In for an expert-led workshop on how to unlock federal funds from the Inflation Reduction Act (IRA). The event is free for leaders from business\, government\, and the community. \nDon’t miss out: Former US EPA Administrator Gina McCarthy and Charlotte Regional Business Alliance CEO Janet LaBar will be joining the event as special guests! \nThursday\, July 20\, 2023 @ 12:00 PM ET\nCharlotte\, NC \nRSVP now to reserve your complimentary lunch\nhttp://bit.ly/44b0XKm
URL:https://cleanairenc.org/event/cash-in-on-clean-energy-tour/
CATEGORIES:Past,Charlotte Mecklenburg Climate Leaders
ATTACH;FMTTYPE=image/png:https://cleanairenc.org/wp-content/uploads/2023/07/image001.png
END:VEVENT
BEGIN:VEVENT
DTSTART;TZID=America/New_York:20230211T150000
DTEND;TZID=America/New_York:20230211T190000
DTSTAMP:20260421T115727
CREATED:20230203T111510Z
LAST-MODIFIED:20230214T162445Z
UID:30547-1676127600-1676142000@cleanairenc.org
SUMMARY:Environmental Open House
DESCRIPTION:Meet with 14+ environmental groups in the Charlotte area and learn about how you can get involved. \nLocation: BirdSong Brewing\, 1016 N Davidson St\, Charlotte\, NC 28206 \nHosted by Charlotte Mecklenburg Climate Leaders
URL:https://cleanairenc.org/event/environmental-open-house/
LOCATION:Charlotte\, Charlotte\, NC\, 28208\, United States
CATEGORIES:Past,Charlotte Mecklenburg Climate Leaders
ATTACH;FMTTYPE=image/jpeg:https://cleanairenc.org/wp-content/uploads/2023/02/enviro_openhouse.jpg
END:VEVENT
BEGIN:VEVENT
DTSTART;TZID=America/New_York:20221116T190000
DTEND;TZID=America/New_York:20221116T200000
DTSTAMP:20260421T115727
CREATED:20221114T212939Z
LAST-MODIFIED:20221117T173821Z
UID:30084-1668625200-1668628800@cleanairenc.org
SUMMARY:Clean Air Book Club Meeting
DESCRIPTION:
URL:https://cleanairenc.salsalabs.org/cancbookclub/index.html#new_tab
LOCATION:Virtual
CATEGORIES:Past,Charlotte Mecklenburg Climate Leaders
ATTACH;FMTTYPE=image/png:https://cleanairenc.org/wp-content/uploads/2022/11/book-club-graphic-2.png
END:VEVENT
END:VCALENDAR