BEGIN:VCALENDAR
VERSION:2.0
PRODID:-//CleanAIRE NC - ECPv6.15.20//NONSGML v1.0//EN
CALSCALE:GREGORIAN
METHOD:PUBLISH
X-ORIGINAL-URL:https://cleanairenc.org
X-WR-CALDESC:Events for CleanAIRE NC
REFRESH-INTERVAL;VALUE=DURATION:PT1H
X-Robots-Tag:noindex
X-PUBLISHED-TTL:PT1H
BEGIN:VTIMEZONE
TZID:America/New_York
BEGIN:DAYLIGHT
TZOFFSETFROM:-0500
TZOFFSETTO:-0400
TZNAME:EDT
DTSTART:20220313T070000
END:DAYLIGHT
BEGIN:STANDARD
TZOFFSETFROM:-0400
TZOFFSETTO:-0500
TZNAME:EST
DTSTART:20221106T060000
END:STANDARD
BEGIN:DAYLIGHT
TZOFFSETFROM:-0500
TZOFFSETTO:-0400
TZNAME:EDT
DTSTART:20230312T070000
END:DAYLIGHT
BEGIN:STANDARD
TZOFFSETFROM:-0400
TZOFFSETTO:-0500
TZNAME:EST
DTSTART:20231105T060000
END:STANDARD
BEGIN:DAYLIGHT
TZOFFSETFROM:-0500
TZOFFSETTO:-0400
TZNAME:EDT
DTSTART:20240310T070000
END:DAYLIGHT
BEGIN:STANDARD
TZOFFSETFROM:-0400
TZOFFSETTO:-0500
TZNAME:EST
DTSTART:20241103T060000
END:STANDARD
END:VTIMEZONE
BEGIN:VEVENT
DTSTART;TZID=America/New_York:20231207T120000
DTEND;TZID=America/New_York:20231207T130000
DTSTAMP:20260423T005739
CREATED:20231130T174816Z
LAST-MODIFIED:20231208T185117Z
UID:33191-1701950400-1701954000@cleanairenc.org
SUMMARY:Webinar: How to Be a Citizen Intervenor (part 1)
DESCRIPTION:Please join BXE and regulatory expert Nancy LaPlaca as they unpack Duke Energy Carolina’s (DEC’s) fuel docket in four one-hour webinars. (The first webinar is Thursday\, December 7th.)\n\nWhy the fuel docket? Because Duke’s much-criticized rush to build more gas plants is dependent on fuel to keep those plants going. DEC (and DEP) are planning to run these fossil gas plants for 30 years\, but how much pollution will that create\, and how much risk to ratepayers for increasingly volatile gas costs? Duke Energy conveniently ignores the enormous effect that fossil gas has on our climate\, a stunning 86 times worse than CO2 emissions from coal power.\n\nLearn about how a docket works: how to intervene\, and what to look for in sometimes-voluminous filings. Learn how to make a difference on critical policy issues that will affect our future\, our climate\, good local clean energy jobs\, reduce air and water pollution\, and our pocketbooks.\n\n\nRegister for the webinar here.
URL:https://cleanairenc.org/event/webinar-how-to-be-a-citizen-intervenor-part-1/
LOCATION:Virtual
CATEGORIES:Past
ATTACH;FMTTYPE=image/jpeg:https://cleanairenc.org/wp-content/uploads/2023/11/Public-Hearing-1.jpeg
END:VEVENT
BEGIN:VEVENT
DTSTART;TZID=America/New_York:20231212T140000
DTEND;TZID=America/New_York:20231212T150000
DTSTAMP:20260423T005739
CREATED:20231211T174951Z
LAST-MODIFIED:20231213T152019Z
UID:33279-1702389600-1702393200@cleanairenc.org
SUMMARY:Climate and Age-Friendly Communities with Author Danielle Arigoni
DESCRIPTION:In her new book Climate Resilience for an Aging Nation\, community resilience and housing expert Danielle Arigoni argues that we cannot achieve true resilience until communities adopt interventions that work to meet the needs of their oldest residents. \nJoin this America Walks webinar for a discussion on how to integrate age-friendly resilience into community planning and disaster preparedness efforts The discussion will be hosted by America Walks board members Arlis Reynolds\, a city council member from Costa Mesa\, CA\, and David Dixon\, an urban planner with Stantec. \nRegister here: https://americawalks.org/webinar-climate-and-age-friendly-communities/ \nThe discussion will be hosted by America Walks board members Arlis Reynolds\, a city council member from Costa Mesa\, CA\, and David Dixon\, an urban planner with Stantec.
URL:https://cleanairenc.org/event/climate-and-age-friendly-communities-with-author-danielle-arigoni/
LOCATION:Virtual
CATEGORIES:Past
ATTACH;FMTTYPE=image/png:https://cleanairenc.org/wp-content/uploads/2023/12/December-2023-Webinar-FBEmail.png
END:VEVENT
BEGIN:VEVENT
DTSTART;TZID=America/New_York:20231213T190000
DTEND;TZID=America/New_York:20231213T210000
DTSTAMP:20260423T005739
CREATED:20231130T201325Z
LAST-MODIFIED:20231215T151340Z
UID:33205-1702494000-1702501200@cleanairenc.org
SUMMARY:Sustainability Trivia Night
DESCRIPTION:Join Sustain Charlotte for a FREE trivia night at Divine Barrel Brewing in Charlotte’s NoDa neighborhood! Learn a little bit about the city while having some low-key competitive (or cooperative) fun! \nRSVP here
URL:https://cleanairenc.org/event/sustainability-trivia-night/
LOCATION:Divine Barrel Brewing\, 3701 N Davidson St\, Charlotte\, NC\, 28205\, United States
CATEGORIES:Past
ATTACH;FMTTYPE=image/png:https://cleanairenc.org/wp-content/uploads/2023/11/Sustainability-Trivia-Night.png
END:VEVENT
BEGIN:VEVENT
DTSTART;TZID=America/New_York:20231214T180000
DTEND;TZID=America/New_York:20231214T200000
DTSTAMP:20260423T005739
CREATED:20231211T180436Z
LAST-MODIFIED:20231215T151411Z
UID:33283-1702576800-1702584000@cleanairenc.org
SUMMARY:Impact 704 Academy
DESCRIPTION:This in-person series will equip you to help shape our future and meet others who share your desire to make an impact! \nImpact 704 Academy is an advocacy-focused series hosted by Sustain Charlotte about sustainable land use and transportation. The December 14 session will dive into transportation systems and their critical role in land use and smart growth decisions. Staff from the Charlotte Department of Transportation and CATS will give presentations followed by a panel discussion and Q&A. \nLearn more and register.
URL:https://cleanairenc.org/event/impact-704-academy/
LOCATION:Charlotte Art League\, 4237 Raleigh Street\, Charlotte\, NC\, 28213\, United States
CATEGORIES:Past
ATTACH;FMTTYPE=image/jpeg:https://cleanairenc.org/wp-content/uploads/2023/12/Impact-704-Academy.jpeg
END:VEVENT
BEGIN:VEVENT
DTSTART;TZID=America/New_York:20231219T183000
DTEND;TZID=America/New_York:20231219T203000
DTSTAMP:20260423T005739
CREATED:20231130T181207Z
LAST-MODIFIED:20240102T221210Z
UID:33195-1703010600-1703017800@cleanairenc.org
SUMMARY:Forever Chemicals: North Carolina's Toxic Tap Water (Documentary Screening)
DESCRIPTION:Join NC Conservation Network for a special screening of WRAL’s 20-minute documentary\, Forever Chemicals: North Carolina’s Toxic Tap Water. Also known as PFAS chemicals\, they’ve been found across the state and are harming our communities’ health and well-being. The screening will start promptly at 6:30 so we encourage you to arrive early to secure your spot. \nLearn more and reserve your tickets at ncconservationnetwork.org/events/charlotte-forever-chemicals-film-screening
URL:https://cleanairenc.org/event/forever-chemicals-documentary-screening/
LOCATION:Petty Thieves Brewing\, 413 Dalton Avenue\, Suite B\, Charlotte\, NC\, 28206\, United States
CATEGORIES:Past
ATTACH;FMTTYPE=image/jpeg:https://cleanairenc.org/wp-content/uploads/2023/11/Forever-Chemicals-documentary.jpeg
END:VEVENT
END:VCALENDAR