BEGIN:VCALENDAR
VERSION:2.0
PRODID:-//CleanAIRE NC - ECPv6.15.20//NONSGML v1.0//EN
CALSCALE:GREGORIAN
METHOD:PUBLISH
X-ORIGINAL-URL:https://cleanairenc.org
X-WR-CALDESC:Events for CleanAIRE NC
REFRESH-INTERVAL;VALUE=DURATION:PT1H
X-Robots-Tag:noindex
X-PUBLISHED-TTL:PT1H
BEGIN:VTIMEZONE
TZID:America/New_York
BEGIN:DAYLIGHT
TZOFFSETFROM:-0500
TZOFFSETTO:-0400
TZNAME:EDT
DTSTART:20220313T070000
END:DAYLIGHT
BEGIN:STANDARD
TZOFFSETFROM:-0400
TZOFFSETTO:-0500
TZNAME:EST
DTSTART:20221106T060000
END:STANDARD
BEGIN:DAYLIGHT
TZOFFSETFROM:-0500
TZOFFSETTO:-0400
TZNAME:EDT
DTSTART:20230312T070000
END:DAYLIGHT
BEGIN:STANDARD
TZOFFSETFROM:-0400
TZOFFSETTO:-0500
TZNAME:EST
DTSTART:20231105T060000
END:STANDARD
BEGIN:DAYLIGHT
TZOFFSETFROM:-0500
TZOFFSETTO:-0400
TZNAME:EDT
DTSTART:20240310T070000
END:DAYLIGHT
BEGIN:STANDARD
TZOFFSETFROM:-0400
TZOFFSETTO:-0500
TZNAME:EST
DTSTART:20241103T060000
END:STANDARD
END:VTIMEZONE
BEGIN:VEVENT
DTSTART;TZID=America/New_York:20231128T183000
DTEND;TZID=America/New_York:20231128T210000
DTSTAMP:20260423T024115
CREATED:20231127T211454Z
LAST-MODIFIED:20231129T180411Z
UID:33179-1701196200-1701205200@cleanairenc.org
SUMMARY:No Man's Land Film Festival 2023
DESCRIPTION:MountainTrue and New Belgium Brewing Co. are proud to invite you to No Man’s Land Film Festival (NMLFF) – the premier all-women adventure film festival featuring Conservation-focused documentary shorts – at New Belgium Brewing’s Brewhouse in Asheville\, NC\, on November 28 (Giving Tuesday!). \nNMLFF is free to attend\, and the event will also be available virtually for those who cannot attend in person. The NMLFF in-person screening is first come first serve – be sure to arrive early to get your seat(s)! \nRegister here.
URL:https://cleanairenc.org/event/no-mans-land-film-festival-2023/
LOCATION:New Belgium Brewing’s Brewhouse\, 21 Craven Street\, Asheville\, NC\, 28806\, United States
CATEGORIES:Past
ATTACH;FMTTYPE=image/png:https://cleanairenc.org/wp-content/uploads/2023/11/No-Mans-Land-Film-Festival.png
END:VEVENT
END:VCALENDAR